BEGIN:VCALENDAR
VERSION:2.0
PRODID:-//wp-events-plugin.com//7.2.3.1//EN
TZID:Europe/Warsaw
X-WR-TIMEZONE:Europe/Warsaw
BEGIN:VEVENT
UID:4458@night4u.pl
DTSTART;TZID=Europe/Warsaw:20190201T220000
DTEND;TZID=Europe/Warsaw:20190202T040000
DTSTAMP:20190120T192018Z
URL:https://night4u.pl/wydarzenia/ruska-wixa-lodz-01-02-dom/
SUMMARY:RUSKA WIXA /// Łódź /// 01.02 /// Dom
DESCRIPTION:Zdrastwujtie ponownie Łódź!\nRuskaWixa wraca na rejony!\nWbi
 jamy do Was trzeci raz\, jak trzeci pasek na dresie!\n\nNogi same zginają
  sie do przykucu.\nNa spodniach pojawiają sie 3 paski.\nDresy do pantofli
  to nagle bardzo dobry pomysł.\nGosha Rubchinskiy to twój najlepszy ziom
 al.\nСука блять to Twoje ulubione przekleństwo.\nРозовое 
 вино masz ustawione jako budzik?\nSowietskoje Igristoje w moich kubkac
 h.\nPajechali!\n\nhardbass\, hardstyle\,hardcore\, cringe edm\, ruski rapi
 k i inne dzikie dźwięki.\nmiejscówka: Dom\n\nwjazd: do 23:00 10 pln ( 2
 39.05 RUB) po 24:00 15 pln (330.57 RUB)
ATTACH;FMTTYPE=image/jpeg:https://night4u.pl/wp-content/uploads/2019/01/14
 778_image_49701109_2294636534153552_3312031083616272384_o.jpg
CATEGORIES:łódzkie
LOCATION:DOM\, Piotrkowska 138/140\, Łódź\, 90-062\, Poland
GEO:51.761319;19.459444
X-APPLE-STRUCTURED-LOCATION;VALUE=URI;X-ADDRESS=Piotrkowska 138/140\, Łód
 ź\, 90-062\, Poland;X-APPLE-RADIUS=100;X-TITLE=DOM:geo:51.761319,19.45944
 4
END:VEVENT
BEGIN:VTIMEZONE
TZID:Europe/Warsaw
X-LIC-LOCATION:Europe/Warsaw
BEGIN:STANDARD
DTSTART:20181028T020000
TZOFFSETFROM:+0200
TZOFFSETTO:+0100
TZNAME:CET
END:STANDARD
END:VTIMEZONE
END:VCALENDAR