BEGIN:VCALENDAR
VERSION:2.0
PRODID:-//wp-events-plugin.com//7.2.3.1//EN
TZID:Europe/Warsaw
X-WR-TIMEZONE:Europe/Warsaw
BEGIN:VEVENT
UID:48082@night4u.pl
DTSTART;TZID=Europe/Warsaw:20200221T200000
DTEND;TZID=Europe/Warsaw:20200222T030000
DTSTAMP:20200222T001317Z
URL:https://night4u.pl/wydarzenia/rw8-ballroom-2stages-2djs-vinyl/
SUMMARY:RW8 Ballroom /2stages/2Dj's/vinyl/
DESCRIPTION:Zdecydowaliśmy kolejny raz otworzyć drzwi Pracownia RW8 dla g
 ości żądnych zabawy oraz klimatu jaki wspólnie wytworzyliśmy w ostatn
 i dzień stycznia Synth Town by NG Live Band.\n\nAtmosfera zbudowana tego 
 wieczoru zapewne\, nie jednemu z wtedy obecnych\, towarzyszy do dziś. Kor
 zystając z końca trwającego karnawału zmobilizowaliśmy nasz zespół 
 by specjalnie dla Was podjąć próbę powtórki.\n\nRzecz ma się jasno :
 )\n\nStartujemy o 20:00\nGramy na dwa roomy:\nRoom1: Dj  ⭐Mach    /elect
 ro/club/\nRoom2: Dj NoSugah   /funk/disco/80's/\nRoom3: Bar/Rest/Chill/\nP
 rzed 24:00 zniżamy ton \;) 🚨(wiadomo)\nKończymy przed 3:00\nWstęp:30
  PLN
ATTACH;FMTTYPE=image/jpeg:https://night4u.pl/wp-content/uploads/2020/02/16
 2362_image_85251832_2811955092226426_2532414963713048576_o.jpg
CATEGORIES:lubelskie
LOCATION:Pracownia RW8\, Rynek Wielki 8\, Zamosc\, 22-400\, Poland
GEO:50.7167;23.25337
X-APPLE-STRUCTURED-LOCATION;VALUE=URI;X-ADDRESS=Rynek Wielki 8\, Zamosc\, 2
 2-400\, Poland;X-APPLE-RADIUS=100;X-TITLE=Pracownia RW8:geo:50.7167,23.253
 37
END:VEVENT
BEGIN:VTIMEZONE
TZID:Europe/Warsaw
X-LIC-LOCATION:Europe/Warsaw
BEGIN:STANDARD
DTSTART:20191027T020000
TZOFFSETFROM:+0200
TZOFFSETTO:+0100
TZNAME:CET
END:STANDARD
END:VTIMEZONE
END:VCALENDAR