BEGIN:VCALENDAR
VERSION:2.0
PRODID:-//wp-events-plugin.com//7.2.3.1//EN
TZID:Europe/Warsaw
X-WR-TIMEZONE:Europe/Warsaw
BEGIN:VEVENT
UID:47542@night4u.pl
DTSTART;TZID=Europe/Warsaw:20200229T233000
DTEND;TZID=Europe/Warsaw:20200301T090000
DTSTAMP:20200229T143057Z
URL:https://night4u.pl/wydarzenia/rygor-%e2%9c%aa-praxis-records-showcase-
 %e2%9c%aa-ygreg-live-set/
SUMMARY:Rygor ✪ Praxis Records Showcase ✪ YGreg Live Set
DESCRIPTION:Na sam wyrostek robaczkowy lutego mamy dla was rygorową niespo
 dziankę. Odwiedzą nas przedstawiciele Praxis Records z Berlina: Christop
 h Fringeli i Lynx ze wspólnym projektem Psychic Defence oraz Ygreg z kole
 ktywu Pure Undergroud z Warszawy. Przed imprezą zapraszamy na koncerty pu
 nkowe (link niżej).\n\nCHRISTOPH FRINGELI/BASE FORCE ONE (Praxis Records/
 Berlin)\nhttps://soundcloud.com/praxisrecords\nhttps://www.facebook.com/ch
 ristoph.fringeli\nhttps://www.facebook.com/Praxis-Records-206908779365486/
 \nhttps://praxis-records.net/\n\nLYNX (Praxis Records/Berlin)\nhttps://sou
 ndcloud.com/lynx-33\n\nPSYCHIC DEFENCE LIVE (Praxis Records/Berlin)\n\nYGR
 EG LIVE SET (Pure Underground/Warszawa) \nhttps://soundcloud.com/pure-unde
 rground\nhttps://www.facebook.com/pureunderground\n\n+ Rygor:\nWO YO\nKrze
 ski\nMole\nKryst\nDesper\n\nKlimacik: Breakcore // Experimental // Jungle 
 // Hardcore // Speedcore // Acid // Techno // inne \n\nStart koncerty: 20:
 30 \nhttps://www.facebook.com/events/2650273535056015/\n\nStart party: 23:
 30\n\nend: ????\n\nTAX party: 15pln
ATTACH;FMTTYPE=image/jpeg:https://night4u.pl/wp-content/uploads/2020/02/15
 9576_image_87022116_210877613648380_8101792858521993216_o.jpg
CATEGORIES:lubelskie
LOCATION:R-ka\, Grodzka 3\, Lublin\, 20-112\, Poland
GEO:51.24836;22.56841
X-APPLE-STRUCTURED-LOCATION;VALUE=URI;X-ADDRESS=Grodzka 3\, Lublin\, 20-112
 \, Poland;X-APPLE-RADIUS=100;X-TITLE=R-ka:geo:51.24836,22.56841
END:VEVENT
BEGIN:VTIMEZONE
TZID:Europe/Warsaw
X-LIC-LOCATION:Europe/Warsaw
BEGIN:STANDARD
DTSTART:20191027T020000
TZOFFSETFROM:+0200
TZOFFSETTO:+0100
TZNAME:CET
END:STANDARD
END:VTIMEZONE
END:VCALENDAR