BEGIN:VCALENDAR
VERSION:2.0
PRODID:-//wp-events-plugin.com//7.2.3.1//EN
TZID:Europe/Warsaw
X-WR-TIMEZONE:Europe/Warsaw
BEGIN:VEVENT
UID:50692@night4u.pl
DTSTART;TZID=Europe/Warsaw:20200828T200000
DTEND;TZID=Europe/Warsaw:20200828T213000
DTSTAMP:20200816T115552Z
URL:https://night4u.pl/wydarzenia/rzeczka-komedia-improwizowana-stworzona-
 z-waszych-przedmiotow/
SUMMARY:Rzeczka: Komedia improwizowana stworzona z Waszych przedmiotów
DESCRIPTION:👉 Komedia improwizowana!\n\n🛶 Rzeczka 🛶 Najpierw weźm
 iemy od Was jakiś realny (!!) przedmiot. Stworzymy do tego przedmiotu jeg
 o historię (monolog) a na tej podstawie zagramy komedię improwizowaną -
  czyli bez scenariusza.\n\n👉 Zachęcamy do przyniesienia jakichś inspi
 rujących (albo zwykłych\, codziennych) rzeczy. Dzięki nim stworzymy wsp
 aniały wieczór.\n\n👉 Patronat medialny: Radio RAM\n👉 Zdjęcie Krzy
 sztof Wowk\n\n👉Improwizacji Jesiotr działa na wrocławskiej scenie kom
 ediowej już 8 lat. Tworzymy teatr na oczach widowni\, a każda scenka to 
 unikalna opowieść\, opowiedziana tylko raz. Jest oryginalnie\, jest spon
 tanicznie\, jest z Ikrą !\n\n🌍 WędrówkiPub\n🌍 ul. Podwale 37/38\n
 🕓 28 sierpnia (piątek)\n🕓 godz. 20:00\n\n👉👉👉 BILETY👈
 👈👈\nWAŻNA INFORMACJA: ILOŚĆ MIEJSC OGRANICZONA DO POŁOWY MIEJSC 
 SIEDZĄCYCH CZYLI 60\n\n🐟 20 zł Bilet normalny. Link do kupbilecik nie
 bawem\n\n🛑 W związku ze stanem epidemii w Polsce kupując bilet akcept
 ujesz następujące wytyczne:\n🛑 Uczestnik ma obowiązek samodzielnego 
 wyposażenia się w materiały ochrony osobistej służące do zakrywania 
 ust i nosa.\n🛑 Kupując bilet uczestnik równoznacznie składa oświadc
 zenie\, że jeżeli wystąpią u niego objawy choroby nie weźmie udziału
  w wydarzeniu i poinformuje o tym organizatora.\n🛑 Kupując bilet uczes
 tnik akceptuje klauzule dot. ochrony danych osobowych\, umożliwiające Or
 ganizatorowi udostępnienie Głównemu Inspektoratowi Sanitarnemu i służ
 bom porządkowym danych osobowych podanych przy zakupie biletów
ATTACH;FMTTYPE=image/jpeg:https://night4u.pl/wp-content/uploads/2020/08/18
 4674_image_117239601_2989813301141756_8754573698965439707_o.jpg
CATEGORIES:dolnośląskie
LOCATION:WedrowkiPub\, Podwale 37/38\, Wroclaw\, 50-040\, Poland
GEO:51.104346;17.02988
X-APPLE-STRUCTURED-LOCATION;VALUE=URI;X-ADDRESS=Podwale 37/38\, Wroclaw\, 5
 0-040\, Poland;X-APPLE-RADIUS=100;X-TITLE=WedrowkiPub:geo:51.104346,17.029
 88
END:VEVENT
BEGIN:VTIMEZONE
TZID:Europe/Warsaw
X-LIC-LOCATION:Europe/Warsaw
BEGIN:DAYLIGHT
DTSTART:20200329T030000
TZOFFSETFROM:+0100
TZOFFSETTO:+0200
TZNAME:CEST
END:DAYLIGHT
END:VTIMEZONE
END:VCALENDAR