BEGIN:VCALENDAR
VERSION:2.0
PRODID:-//wp-events-plugin.com//7.2.3.1//EN
TZID:Europe/Warsaw
X-WR-TIMEZONE:Europe/Warsaw
BEGIN:VEVENT
UID:50573@night4u.pl
DTSTART;TZID=Europe/Warsaw:20210928T210000
DTEND;TZID=Europe/Warsaw:20210929T050000
DTSTAMP:20210908T144810Z
URL:https://night4u.pl/wydarzenia/rzeszowska-inauguracja-studencka-%e2%98%
 86-pod-palma-%e2%98%86-28-09-%e2%98%86/
SUMMARY:Rzeszowska Inauguracja Studencka ☆ Pod Palmą ☆ 28.09
DESCRIPTION:♥♡ Przedstawiamy Rzeszowską Inaugurację Studencką ♥♡
  \n\nCo zrobić żeby w nowy rok akademicki wejść z odpowiednią pompą?
  \n\n☞☞ Przyjść na najlepszą imprezę w mieście! \n☞☞ Zgarną
 ć kawałek parkietu i bawić się całą noc! \n☞☞ Nie oszczędzać s
 ię na beforze i afterze! \n☞☞ Poznać mnóstwo nowych osób! \n☞☞
  Zdobyć jedyne niepowtarzalne wspomnienia! \n\nTo wszystko i jeszcze wię
 cej tylko i wyłącznie na Rzeszowskiej Inauguracji Studenckiej w klubie P
 od Palmą! \n\n------------------------------\n28 września na nowo zdefin
 iujecie pojęcie najlepszej imprezy bo takiego melanżu jeszcze nie przeż
 yliście! \n\nGdzie? - Klub Pod Palmą \nKiedy? - 28 września 2021\nO kt
 órej? - 21.00 \nDo której? - Do której starczy sił ^^ \n\n📢 UWAGA 
 📢 Dołączcie również do pozostałych wydarzeń 👉  ❗️❗️ \n
 \n\n🕺Rzeszowska Integracja Studencka - https://fb.me/e/2XZUQrOSh\n\n
 💃Wielkie Otrzęsiny Rzeszowa - https://fb.me/e/16Xuv7FyP\n\n\n---------
 ---------------------\n\n📢 WEJŚCIÓWKI ONLINE 📢\n\nLink do biletów
  w przedsprzedaży  👉 http://kbq.pl/61993 (Gwarancja wejścia ze wzglę
 du na duże zainteresowanie imprezą!)\n\nN wejściu w dniu imprezy bilety
  po 20 zł. \n\n-------------------------------\n\n\nRegulamin imprezy:\n\
 n1.Impreza odbywa się w godzinach 21.00 – 5.00\n\n2.Impreza odbywa się
  wyłącznie na terenie lokalów wymienionych na wydarzeniu!\n\n3.Do zakup
 u opaski i udziału w imprezie upoważnione są jedyne osoby które ukońc
 zyły 18 lat (okazać można legitymację studencką lub dowód osobisty/p
 rawo jazdy)\n\n4.Zakupiony bilet nie podlega zwrotowi.
ATTACH;FMTTYPE=image/jpeg:https://night4u.pl/wp-content/uploads/2021/04/18
 4385_image_152366126_1540783392980084_8405165942578407311_n.jpg
CATEGORIES:podkarpackie
LOCATION:Pod Palmą\, Cicha4a\, Rzeszów\, 35-326\, Poland
GEO:50.01652;22.00478
X-APPLE-STRUCTURED-LOCATION;VALUE=URI;X-ADDRESS=Cicha4a\, Rzeszów\, 35-326
 \, Poland;X-APPLE-RADIUS=100;X-TITLE=Pod Palmą:geo:50.01652,22.00478
END:VEVENT
BEGIN:VTIMEZONE
TZID:Europe/Warsaw
X-LIC-LOCATION:Europe/Warsaw
BEGIN:DAYLIGHT
DTSTART:20210328T030000
TZOFFSETFROM:+0100
TZOFFSETTO:+0200
TZNAME:CEST
END:DAYLIGHT
END:VTIMEZONE
END:VCALENDAR