BEGIN:VCALENDAR
VERSION:2.0
PRODID:-//wp-events-plugin.com//7.2.3.1//EN
TZID:Europe/Warsaw
X-WR-TIMEZONE:Europe/Warsaw
BEGIN:VEVENT
UID:36558@night4u.pl
DTSTART;TZID=Europe/Warsaw:20191130T220000
DTEND;TZID=Europe/Warsaw:20191201T040000
DTSTAMP:20191129T091509Z
URL:https://night4u.pl/wydarzenia/s-p-i-r-i-t-u-%e2%88%86-l-series-6-dziew
 czyny-do-2300-wstep-free/
SUMMARY:S P I R I T U ∆ L series #6 | dziewczyny do 23:00 wstęp free
DESCRIPTION:Afro House wraca do klubu SQ\, a to za sprawą ekipy Spiritual 
 Series! Tej nocy zagrają rezydenci cyklu Tommy Gustav oraz OUI / Stefan 
 Łyczewski. Na chillroomie zagra Craft Michael. \nO gwarancje najlepszych 
 brzmień afro house oraz deep house nie musicie się martwić! \nDo zobacz
 enia już 30 listopada!\n\n\n\n30.11 (sobota) SPIRITUAL!\n\n\nTommy Gustav
 \n\nOUI / Stefan Łyczewski\n\nCraft Michael\n\nRezerwacje → http://bit.
 ly/sqrezerwacja\n\n\nstart: 22:00\n\n\nbilety: 20 zł do 23:30 / 25 zł po
  23:30 | dziewczyny wstęp FREE do 23:00
ATTACH;FMTTYPE=image/jpeg:https://night4u.pl/wp-content/uploads/2019/11/10
 0568_image_74217304_10157954397032940_7471185552302145536_o.jpg
CATEGORIES:wielkopolskie
LOCATION:SQ klub\, Poznan\, Poland
GEO:52.40174;16.926687
X-APPLE-STRUCTURED-LOCATION;VALUE=URI;X-ADDRESS=Poznan\, Poland;X-APPLE-RAD
 IUS=100;X-TITLE=SQ klub:geo:52.40174,16.926687
END:VEVENT
BEGIN:VTIMEZONE
TZID:Europe/Warsaw
X-LIC-LOCATION:Europe/Warsaw
BEGIN:STANDARD
DTSTART:20191027T020000
TZOFFSETFROM:+0200
TZOFFSETTO:+0100
TZNAME:CET
END:STANDARD
END:VTIMEZONE
END:VCALENDAR