BEGIN:VCALENDAR
VERSION:2.0
PRODID:-//wp-events-plugin.com//7.2.3.1//EN
TZID:Europe/Warsaw
X-WR-TIMEZONE:Europe/Warsaw
BEGIN:VEVENT
UID:2573@night4u.pl
DTSTART;TZID=Europe/Warsaw:20190125T220000
DTEND;TZID=Europe/Warsaw:20190126T050000
DTSTAMP:20190105T144307Z
URL:https://night4u.pl/wydarzenia/sabores-de-la-noche-mojito-15-pln-mojito
 -deal-x-lokal-krakow-4/
SUMMARY:Sabores de la noche: Mojito! 15 PLN Mojito deal x LOKAL Kraków
DESCRIPTION:Każda noc jest inna\, każda noc jest (nie)zapomniana! Każda 
 noc ma swój smak! \nPrzedstawiamy gorące Sabores de la noches\, czyli sm
 aki nocy\, gdzie nie tylko smaków\, ale gorących\, latynoskich rytmów b
 ędzie do wyboru.\n\nDodaj się do listy gości where2b: https://www.where
 2b.org/event/76449 \ni korzystaj z promoci wieczoru: Bacardi Mojito w ceni
 e 15 PLN\n\nWybieraj spośród smaków\, będzie ich 20 (a może więcej).
  Może być klasycznie\, ale także  owocowo i orzeźwiająco (zielone jab
 łuszko\, majakuja\, truskawka\, zielony ogórek\, arbuz\, wiśnia)\, zask
 akująceo (lawenda?)\, niespodziewanie (kokos)\, szokująco (pikantne mang
 o) i  awangardowo (hibiskus\, trawa cytrynowa).\n\nPrzyjdź i skosztuj sma
 ków Twojej nocy!\n\nMuzyka: mieszanka popu\, latin popu\, reggaetonu i mo
 ombahtonu.\n\n*Lista where2b - promocja 15 PLN Mojito oraz darmowy wstęp 
 do godziny 1:00.
ATTACH;FMTTYPE=image/jpeg:https://night4u.pl/wp-content/uploads/2019/01/92
 56_image_49260490_1272638722903163_349170584782897152_o.jpg
CATEGORIES:małopolskie
LOCATION:LOKAL Krakow\, Rynek Główny 6\, Kraków\, 31-042\, Poland
GEO:50.06105;19.93836
X-APPLE-STRUCTURED-LOCATION;VALUE=URI;X-ADDRESS=Rynek Główny 6\, Kraków\
 , 31-042\, Poland;X-APPLE-RADIUS=100;X-TITLE=LOKAL Krakow:geo:50.06105,19.
 93836
END:VEVENT
BEGIN:VTIMEZONE
TZID:Europe/Warsaw
X-LIC-LOCATION:Europe/Warsaw
BEGIN:STANDARD
DTSTART:20181028T020000
TZOFFSETFROM:+0200
TZOFFSETTO:+0100
TZNAME:CET
END:STANDARD
END:VTIMEZONE
END:VCALENDAR