BEGIN:VCALENDAR
VERSION:2.0
PRODID:-//wp-events-plugin.com//7.2.3.1//EN
TZID:Europe/Warsaw
X-WR-TIMEZONE:Europe/Warsaw
BEGIN:VEVENT
UID:5687@night4u.pl
DTSTART;TZID=Europe/Warsaw:20190222T220000
DTEND;TZID=Europe/Warsaw:20190223T050000
DTSTAMP:20190131T143252Z
URL:https://night4u.pl/wydarzenia/sabores-de-la-noche-mojito-15-pln-mojito
 -deal-x-lokal-krakow-8/
SUMMARY:Sabores de la noche: Mojito! 15 PLN Mojito deal x LOKAL Kraków
DESCRIPTION:Każda noc jest inna\, każda noc jest (nie)zapomniana! Każda 
 noc ma swój smak! \n\nPrzedstawiamy gorące Sabores de la noches\, czyli 
 smaki nocy\, gdzie nie tylko smaków\, ale gorących\, latynoskich rytmów
  będzie do wyboru.\n\nDodaj się do listy gości where2B\, korzystaj z pr
 omoci wieczoru: Bacardi Mojito w cenie 15 PLN a także zgarnij jedno z 50 
 mini-mojito  (dla pierwszych 50 osób!)\n\nWybieraj spośród smaków\, b
 ędzie ich 20 (a może więcej). Może być klasycznie\, ale także  owoco
 wo i orzeźwiająco (zielone jabłuszko\, majakuja\, truskawka\, zielony o
 górek\, arbuz\, wiśnia)\, zaskakująceo (lawenda?)\, niespodziewanie (ko
 kos)\, szokująco (pikantne mango) i  awangardowo (hibiskus\, trawa cytryn
 owa).\n\nPrzyjdź i skosztuj smaków Twojej nocy!\n\nMuzyka: mieszanka pop
 u\, latin popu\, reggaetonu i moombahtonu.\n\n*Lista where2B (https://www.
 where2b.org/event/77094) - promocja 15 PLN Mojito oraz darmowy wstęp do g
 odziny 1:00.
ATTACH;FMTTYPE=image/jpeg:https://night4u.pl/wp-content/uploads/2019/01/17
 327_image_51304419_1293910850775950_662438245153374208_o.jpg
CATEGORIES:małopolskie
LOCATION:LOKAL Krakow\, Rynek Główny 6\, Kraków\, 31-042\, Poland
GEO:50.06105;19.93836
X-APPLE-STRUCTURED-LOCATION;VALUE=URI;X-ADDRESS=Rynek Główny 6\, Kraków\
 , 31-042\, Poland;X-APPLE-RADIUS=100;X-TITLE=LOKAL Krakow:geo:50.06105,19.
 93836
END:VEVENT
BEGIN:VTIMEZONE
TZID:Europe/Warsaw
X-LIC-LOCATION:Europe/Warsaw
BEGIN:STANDARD
DTSTART:20181028T020000
TZOFFSETFROM:+0200
TZOFFSETTO:+0100
TZNAME:CET
END:STANDARD
END:VTIMEZONE
END:VCALENDAR