BEGIN:VCALENDAR
VERSION:2.0
PRODID:-//wp-events-plugin.com//7.2.3.1//EN
TZID:Europe/Warsaw
X-WR-TIMEZONE:Europe/Warsaw
BEGIN:VEVENT
UID:49473@night4u.pl
DTSTART;TZID=Europe/Warsaw:20200328T220000
DTEND;TZID=Europe/Warsaw:20200329T060000
DTSTAMP:20200311T225805Z
URL:https://night4u.pl/wydarzenia/sajmon-in-the-house-dj-sajmon-dave-c/
SUMMARY:Sajmon in the House : DJ Sajmon &amp\; Dave C
DESCRIPTION:Przed nami kolejna wyjątkowa impreza! Sajmon in the House! 
 🔥 Imprezę będą napędzać DJ Sajmon\, oraz Dave C\, co oznacza masę
  gorących brzmień i wiele house'owych petard! 😎 Jak będzie? Chyba ni
 e trzeba odpowiadać! 😁 To będzie wyjątkowa noc! 🤩\n\n\nMUSIC : DJ
  Sajmon &amp\; Dave C\nPROMO : Wjazd Free &amp\; Bar -50% do 23:00\n——
 —————————————————\nStart : 22 / Selekcja
  \nRezerwacje: 666 13 14 15
ATTACH;FMTTYPE=image/jpeg:https://night4u.pl/wp-content/uploads/2020/03/17
 1696_image_89436006_10156923914132327_4309115326294917120_o.jpg
CATEGORIES:opolskie
LOCATION:Aqarium Music Club\, ul. Franciszkańska 1\, Opole\, 45-021\, Pola
 nd
GEO:50.66778;17.92274
X-APPLE-STRUCTURED-LOCATION;VALUE=URI;X-ADDRESS=ul. Franciszkańska 1\, Opo
 le\, 45-021\, Poland;X-APPLE-RADIUS=100;X-TITLE=Aqarium Music Club:geo:50.
 66778,17.92274
END:VEVENT
BEGIN:VTIMEZONE
TZID:Europe/Warsaw
X-LIC-LOCATION:Europe/Warsaw
BEGIN:STANDARD
DTSTART:20191027T020000
TZOFFSETFROM:+0200
TZOFFSETTO:+0100
TZNAME:CET
END:STANDARD
BEGIN:DAYLIGHT
DTSTART:20200329T030000
TZOFFSETFROM:+0100
TZOFFSETTO:+0200
TZNAME:CEST
END:DAYLIGHT
END:VTIMEZONE
END:VCALENDAR