BEGIN:VCALENDAR
VERSION:2.0
PRODID:-//wp-events-plugin.com//7.2.3.1//EN
TZID:Europe/Warsaw
X-WR-TIMEZONE:Europe/Warsaw
BEGIN:VEVENT
UID:19463@night4u.pl
DTSTART;TZID=Europe/Warsaw:20190619T220000
DTEND;TZID=Europe/Warsaw:20190620T050000
DTSTAMP:20190615T024824Z
URL:https://night4u.pl/wydarzenia/salsa-bachata-2/
SUMMARY:Salsa & Bachata
DESCRIPTION:?Karaibskie środy z Santosami w B4 Bracka 4 ?19.06.2019!\n\nDe
  los Santos Project\n\nLato to idealny czas na upalne noce w latynoskim st
 ylu ???\n\n☀️☀️ Dlatego od 12.06.2019  w każdą środę na naszym
  parkiecie królować będzie Salsa & Bachata z domieszką innych rytmów 
 karaibskich ❤\n\nWpadnij na rumowego drinka ?? i daj się ponieść gor
 ącym rytmom ??\n\n?marketingbracka4@gmail.com \n☎️517593181\n\n#insta
 gram #bracka4
ATTACH;FMTTYPE=image/jpeg:https://night4u.pl/wp-content/uploads/2019/06/46
 916_image_62533635_1905968886170232_1767248419463626752_o.jpg
CATEGORIES:małopolskie
LOCATION:B4 Bracka 4\, ul.Bracka 4\, Kraków\, 31-005\, Poland
GEO:50.06042;19.93637
X-APPLE-STRUCTURED-LOCATION;VALUE=URI;X-ADDRESS=ul.Bracka 4\, Kraków\, 31-
 005\, Poland;X-APPLE-RADIUS=100;X-TITLE=B4 Bracka 4:geo:50.06042,19.93637
END:VEVENT
BEGIN:VTIMEZONE
TZID:Europe/Warsaw
X-LIC-LOCATION:Europe/Warsaw
BEGIN:DAYLIGHT
DTSTART:20190331T030000
TZOFFSETFROM:+0100
TZOFFSETTO:+0200
TZNAME:CEST
END:DAYLIGHT
END:VTIMEZONE
END:VCALENDAR