BEGIN:VCALENDAR
VERSION:2.0
PRODID:-//wp-events-plugin.com//7.2.3.1//EN
TZID:Europe/Warsaw
X-WR-TIMEZONE:Europe/Warsaw
BEGIN:VEVENT
UID:23016@night4u.pl
DTSTART;TZID=Europe/Warsaw:20190728T200000
DTEND;TZID=Europe/Warsaw:20190728T235900
DTSTAMP:20190724T175809Z
URL:https://night4u.pl/wydarzenia/salsoteka-na-moscie-kultury-niedziela-28
 -07-2019/
SUMMARY:Salsoteka na Moście Kultury - niedziela 28.07.2019
DESCRIPTION:Zapraszamy w ostatnią niedzielę lipca na gorącą imprezę Fi
 esta Caliente z Casa de la Danza na Moście Kultury.\n\n* Startujemy o 20:
 00\n* Bezpłatna nauka salsy 21:00 - instruktorzy Conrad i Monica Dąbscy 
 \n* Animacje poprowadzi ekipa instruktorów z Casa de la Danza \n\nW trakc
 ie imprezy można będzie potańczyć salsę\, bachatę\, kizombę i wiele
  innych gorących tańców. Radzimy zabrać ze sobą wygodne obuwie.
ATTACH;FMTTYPE=image/jpeg:https://night4u.pl/wp-content/uploads/2019/07/54
 381_image_67391384_2771964339484502_5519886050354266112_n.jpg
CATEGORIES:lubelskie
LOCATION:Most Kultury\, Most Mariana Lutosławskiego\, Lublin\, 20-102\, Po
 land
GEO:51.238676;22.571431
X-APPLE-STRUCTURED-LOCATION;VALUE=URI;X-ADDRESS=Most Mariana Lutosławskieg
 o\, Lublin\, 20-102\, Poland;X-APPLE-RADIUS=100;X-TITLE=Most Kultury:geo:5
 1.238676,22.571431
END:VEVENT
BEGIN:VTIMEZONE
TZID:Europe/Warsaw
X-LIC-LOCATION:Europe/Warsaw
BEGIN:DAYLIGHT
DTSTART:20190331T030000
TZOFFSETFROM:+0100
TZOFFSETTO:+0200
TZNAME:CEST
END:DAYLIGHT
END:VTIMEZONE
END:VCALENDAR