BEGIN:VCALENDAR
VERSION:2.0
PRODID:-//wp-events-plugin.com//7.2.3.1//EN
TZID:Europe/Warsaw
X-WR-TIMEZONE:Europe/Warsaw
BEGIN:VEVENT
UID:37059@night4u.pl
DTSTART;TZID=Europe/Warsaw:20191207T220000
DTEND;TZID=Europe/Warsaw:20191208T050000
DTSTAMP:20200401T082118Z
URL:https://night4u.pl/wydarzenia/sandecki-sax-is-a-santa-sobota-07-12/
SUMMARY:Sandecki Sax Is A Santa // Sobota 07.12 //
DESCRIPTION:[ENGLISH VERSION BELOW]\n\n7 grudnia (sobota) kontynuujemy świ
 ętowanie Mikołajek - przygotujcie się na muzyczną niespodziankę\, czy
 li człowieka z rurą - Sandecki Sax!\n\nJeśli jeszcze nie macie planów 
 na ten wieczór to pamiętajcie\, że kierunek jest tylko jeden -&gt\; SHI
 NE CLUB!\n\nLINE-UP:\n\n✪ Sandecki Sax (Shine Special Guest/Sax Live!)\n
 ✰ Mr. ONE (Shine Resident/Kraków)\n✰ Orquell (Shine Guest/Kraków)\n\
 n✘✘✘ sala R'n'B ✘✘✘\n\n✰ DANNY BOY (Shine Resident/Kraków)\
 n\n✘✘✘ sala LATIN STAGE ✘✘✘\n\n✰ TIGER DJ (Havana/Kuba)\n✰
  NESTY DJ (Havana/Kuba)\n\n________________________________\nStart: 22:00\
 ;\nWjazd: 15 PLN\; po 24:00 - 20 PLN\nWiek: 21+!\nObowiązuje: door select
 ion.\n________________________________\n\n[ENGLISH VERSION]\n\nLet us take
  you on a journey\, full of surprises\, unique characters and music magic.
  Become a part of the show and make history with us!\n\nSHINE - Make Some 
 Noise!\n________________________________\nStart: 10:00 P.M.\nEntry: 15PLN\
 ; after MIDNIGHT - 20PLN\nAge: 21+\nDoor Selection.
ATTACH;FMTTYPE=image/jpeg:https://night4u.pl/wp-content/uploads/2019/11/10
 2203_image_78433233_3048674861828202_7906989007584624640_o.jpg
CATEGORIES:małopolskie
LOCATION:Shine Club Kraków\, Starowiślna 16\, Kraków\, 31-032\, Poland
GEO:50.05756;19.94445
X-APPLE-STRUCTURED-LOCATION;VALUE=URI;X-ADDRESS=Starowiślna 16\, Kraków\,
  31-032\, Poland;X-APPLE-RADIUS=100;X-TITLE=Shine Club Kraków:geo:50.0575
 6,19.94445
END:VEVENT
BEGIN:VTIMEZONE
TZID:Europe/Warsaw
X-LIC-LOCATION:Europe/Warsaw
BEGIN:STANDARD
DTSTART:20191027T020000
TZOFFSETFROM:+0200
TZOFFSETTO:+0100
TZNAME:CET
END:STANDARD
END:VTIMEZONE
END:VCALENDAR