BEGIN:VCALENDAR
VERSION:2.0
PRODID:-//wp-events-plugin.com//7.2.3.1//EN
TZID:Europe/Warsaw
X-WR-TIMEZONE:Europe/Warsaw
BEGIN:VEVENT
UID:38523@night4u.pl
DTSTART;TZID=Europe/Warsaw:20191206T220000
DTEND;TZID=Europe/Warsaw:20191207T050000
DTSTAMP:20191206T173946Z
URL:https://night4u.pl/wydarzenia/santa-in-the-house-x-ritual-x-06-12/
SUMMARY:Santa in the house x Ritual x 06.12
DESCRIPTION:Ho ho ho!\n\nMIkołaj przybywa do miasta i kieruje się pod naj
 lepszy nocny adres w stolicy - Mazowiecka 12! \n\nBądźcie razem z nami w
  mikołajkowy wieczór pełen niespodzianek!\n\nDołącz do nas w Ritual C
 lub Warsaw\nStart jak zawsze o 22:00!\n\nZagra dla Was:\n\nDJ KOALA\n\nRez
 erwacje stolików:\n\ninfo@ritualwarsaw.com\n+48 723 23 55 55
ATTACH;FMTTYPE=image/jpeg:https://night4u.pl/wp-content/uploads/2019/12/11
 0059_image_78084383_1010212349377261_3353337261570654208_o.jpg
CATEGORIES:mazowieckie
LOCATION:Ritual Club Warsaw\, ul. Mazowiecka 12\, Warsaw\, 00-048\, Poland
GEO:52.23782;21.01313
X-APPLE-STRUCTURED-LOCATION;VALUE=URI;X-ADDRESS=ul. Mazowiecka 12\, Warsaw\
 , 00-048\, Poland;X-APPLE-RADIUS=100;X-TITLE=Ritual Club Warsaw:geo:52.237
 82,21.01313
END:VEVENT
BEGIN:VTIMEZONE
TZID:Europe/Warsaw
X-LIC-LOCATION:Europe/Warsaw
BEGIN:STANDARD
DTSTART:20191027T020000
TZOFFSETFROM:+0200
TZOFFSETTO:+0100
TZNAME:CET
END:STANDARD
END:VTIMEZONE
END:VCALENDAR