BEGIN:VCALENDAR
VERSION:2.0
PRODID:-//wp-events-plugin.com//7.2.3.1//EN
TZID:Europe/Warsaw
X-WR-TIMEZONE:Europe/Warsaw
BEGIN:VEVENT
UID:38568@night4u.pl
DTSTART;TZID=Europe/Warsaw:20191207T210000
DTEND;TZID=Europe/Warsaw:20191208T050000
DTSTAMP:20191207T200337Z
URL:https://night4u.pl/wydarzenia/santa-is-a-dj-%e2%98%85-nexboy-%e2%98%85
 -mikolajki-2019/
SUMMARY:Santa is a DJ ★ Nexboy ★ Mikołajki 2019
DESCRIPTION:🎅 Santa is a DJ 🎅 Mikołajki 2019 🎅\n\nKochani w sobot
 ę 7 grudnia naszym gościem będzie NEXBOY 💥\n\nZapraszamy na kolejną
  gorącą noc do Nieba 🔥\n\nDo waszej dyspozycji 2 sale z Waszą ulubio
 ną muzą.\n\nDJ WAJS | DJ NEXX | DJ DIABLO | DJ TOUDII\n\nBilet 20 PLN | 
 Start 21:00\n\n☎ Rezerwacje 788-658-151 ☎ (od 14:00 do 18:00)
ATTACH;FMTTYPE=image/jpeg:https://night4u.pl/wp-content/uploads/2019/12/11
 0243_image_79140394_2799369586797492_7200091193718341632_o.jpg
CATEGORIES:wielkopolskie
LOCATION:Heaven Leszno\, Lipowa 6\, Leszno\, 64-100\, Poland
GEO:51.838433;16.574558
X-APPLE-STRUCTURED-LOCATION;VALUE=URI;X-ADDRESS=Lipowa 6\, Leszno\, 64-100\
 , Poland;X-APPLE-RADIUS=100;X-TITLE=Heaven Leszno:geo:51.838433,16.574558
END:VEVENT
BEGIN:VTIMEZONE
TZID:Europe/Warsaw
X-LIC-LOCATION:Europe/Warsaw
BEGIN:STANDARD
DTSTART:20191027T020000
TZOFFSETFROM:+0200
TZOFFSETTO:+0100
TZNAME:CET
END:STANDARD
END:VTIMEZONE
END:VCALENDAR