BEGIN:VCALENDAR
VERSION:2.0
PRODID:-//wp-events-plugin.com//7.2.3.1//EN
TZID:Europe/Warsaw
X-WR-TIMEZONE:Europe/Warsaw
BEGIN:VEVENT
UID:10419@night4u.pl
DTSTART;TZID=Europe/Warsaw:20190426T190000
DTEND;TZID=Europe/Warsaw:20190426T220000
DTSTAMP:20190318T195825Z
URL:https://night4u.pl/wydarzenia/santabarbara-na-spring-break-2019/
SUMMARY:Santabarbara na Spring Break 2019
DESCRIPTION:Chcielibyśmy zaprosić wszystkich na nasz koncert\, który odb
 ędzie się w ramach festiwalu Spring Break w Poznaniu w klubie Dragon Soc
 ial Club\n\n\nSantabarbara - najnowszy projekt braci Pospieszalskich drugi
 ego pokolenia\, który zapoczątkowali Łukasz\, Marek\, Szczepan i Nikode
 m Pospieszalscy. Na co dzień poruszający się na przeróżnym gruncie mu
 zycznym\, od szeroko pojętej muzyki rozrywkowej\, elektronicznej\, klasyc
 znej\, poprzez muzykę ludową\, aż do awangardowej improwizacji.\nProjek
 t ten to połączenie syntetycznych brzmień z akustyczną perkusją oraz 
 męskimi wokalami.\nStaramy się tutaj pokazać jaka jest nasza koncepcja 
 na tworzenie piosenki\, przy czym nie opieramy się na utartych schematach
  formalnych i kompozycyjnych. Nadrzędną rolę w każdym utworze pełni m
 elodia i harmonia\, do której staramy się podejść w nieoczywisty spos
 ób aranżacyjny. W naszej twórczości inspirujemy się wpływami min. Ja
 mesa Blake’a\, Radiohead\, Metronomy\, a także muzyki czysto elektronic
 znej\, czy nawet techno.\nTutaj staramy się połączyć te pomysły w jed
 ną spójną całość\, a przy tym mamy nadzieję na pokazanie czegoś no
 wego i świeżego.\nObecnie zespół funkcjonuje w trio (Szczepan\, Łukas
 z i Nikodem) i szykuje się do nagrania płyty. \n\nWięcej info na Santab
 arbara Music
ATTACH;FMTTYPE=image/jpeg:https://night4u.pl/wp-content/uploads/2019/03/27
 507_image_53609515_614708375698524_3711278259766296576_o.jpg
CATEGORIES:wielkopolskie
LOCATION:Dragon Social Club\, ul.Zamkowa 3\, Poznan\, 61-768\, Poland
GEO:52.409327;16.932084
X-APPLE-STRUCTURED-LOCATION;VALUE=URI;X-ADDRESS=ul.Zamkowa 3\, Poznan\, 61-
 768\, Poland;X-APPLE-RADIUS=100;X-TITLE=Dragon Social Club:geo:52.409327,1
 6.932084
END:VEVENT
BEGIN:VTIMEZONE
TZID:Europe/Warsaw
X-LIC-LOCATION:Europe/Warsaw
BEGIN:DAYLIGHT
DTSTART:20190331T030000
TZOFFSETFROM:+0100
TZOFFSETTO:+0200
TZNAME:CEST
END:DAYLIGHT
END:VTIMEZONE
END:VCALENDAR