BEGIN:VCALENDAR
VERSION:2.0
PRODID:-//wp-events-plugin.com//7.2.3.1//EN
TZID:Europe/Warsaw
X-WR-TIMEZONE:Europe/Warsaw
BEGIN:VEVENT
UID:41446@night4u.pl
DTSTART;TZID=Europe/Warsaw:20200214T210000
DTEND;TZID=Europe/Warsaw:20200214T210000
DTSTAMP:20200213T231230Z
URL:https://night4u.pl/wydarzenia/sara-derejczyk-live-act/
SUMMARY:Sara Derejczyk Live Act
DESCRIPTION:Z wielką przyjemnością zapraszamy wszystkich Zamkowiczów na
  wyjątkowe wydarzenie!\nSpecjalnie dla Was wystąpi ponownie piękna i en
 ergiczna Sara Derejczyk!\n\nSkrzypaczka związana z muzyką od najmłodszy
 ch lat. Swoje umiejętności rozwija pod skrzydłami wybitnego profesora A
 ndrzeja Woźnicy we Wrocławiu. Wciąż poszerza swój wachlarz kompetencj
 i udzielając się na warsztatach i kursach min. z improwizacji jazzowej\,
  ale również z zakresu edukacji muzycznej najmłodszych.\n\nWspółpracu
 je z najbardziej znaną i cenioną agencją muzyczną w Polsce. Udziela si
 ę w wielu projektach muzycznych z muzykami z całego kraju. Jej niepowtar
 zalne aranżacje\, mają charakterne i energiczne brzmienie. Taneczne show
  i niepowtarzalne improwizacje uatrakcyjnia ledowe oświetlenie instrument
 u. \nLudzie doceniają ją za temperament\, energię i oryginalny sposób 
 wyrażania siebie\, wkładając w muzykę całe swoje serce. \n\nOczarowuj
 e widzów nietuzinkowym show\, które zawsze towarzyszy jej grze. Współp
 racuje nie tylko ze znanymi artystami\, ale również dziećmi\, które ka
 żdego dnia pokazują jej jak w najprawdziwszy sposób przekazywać swoje 
 emocje. Każdy występ to dla niej okazja do dzielenia się pozytywną ene
 rgią\, oraz swoją pasją z odbiorcami.\n\nNa barze czekać będą na Was
  słodkie niespodzianki🍭 \nDodatkowo dla wszystkich chętnych okazja na
  znalezienie drugiej połowy z pomocą naszych kolorowych opasek! Wolni\, 
 zajęci\, szukacie wrażeń? Wybierzcie sami!\n\nRezerwacje: 41 344 72 26.
 \n\nPamiętajcie\, że możecie również zrobić rezerwację on-line! Wys
 tarczy pod naszym zdjęciem kliknąć przycisk "zarezerwuj teraz"\nDo zoba
 czenia!\n\nPanie wstęp free &lt\;3
ATTACH;FMTTYPE=image/jpeg:https://night4u.pl/wp-content/uploads/2020/01/12
 9976_image_80499390_3196388250375907_6353740417430716416_n.jpg
CATEGORIES:świętokrzyskie
LOCATION:Klub Zamkowa\, Zamkowa 2\, Kielce\, 25-009\, Poland
GEO:50.868771;20.625644
X-APPLE-STRUCTURED-LOCATION;VALUE=URI;X-ADDRESS=Zamkowa 2\, Kielce\, 25-009
 \, Poland;X-APPLE-RADIUS=100;X-TITLE=Klub Zamkowa:geo:50.868771,20.625644
END:VEVENT
BEGIN:VTIMEZONE
TZID:Europe/Warsaw
X-LIC-LOCATION:Europe/Warsaw
BEGIN:STANDARD
DTSTART:20191027T020000
TZOFFSETFROM:+0200
TZOFFSETTO:+0100
TZNAME:CET
END:STANDARD
END:VTIMEZONE
END:VCALENDAR