BEGIN:VCALENDAR
VERSION:2.0
PRODID:-//wp-events-plugin.com//7.2.3.1//EN
TZID:Europe/Warsaw
X-WR-TIMEZONE:Europe/Warsaw
BEGIN:VEVENT
UID:37040@night4u.pl
DTSTART;TZID=Europe/Warsaw:20200118T190000
DTEND;TZID=Europe/Warsaw:20200118T230000
DTSTAMP:20200331T192217Z
URL:https://night4u.pl/wydarzenia/sarius-w-ilawie-pierwsza-trasa-po-koncu-
 swiata/
SUMMARY:Sarius w Iławie | Pierwsza Trasa Po Końcu Świata
DESCRIPTION:Antihype oraz agencja AIO zapraszają na premierowy koncert Sar
 iusa w Iławie z albumem "Pierwszy Dzień Po Końcu Świata"!\n\nImprezę 
 poprowadzi: DJ Look!\n\nPrzedsprzedaż biletów online: https://ticketos.p
 l/event/2778\nI pula: 35 pln - WYPRZEDANE\nII pula: 40 pln\nIII pula: 45 p
 ln / bramka\n\nWstęp: + 16 za okazaniem zgody rodziców\, poniżej 16 rok
 u życia z opiekunem prawnym.
ATTACH;FMTTYPE=image/jpeg:https://night4u.pl/wp-content/uploads/2019/11/10
 2153_image_76717478_2517420321667030_7532787791487303680_o.jpg
CATEGORIES:warmińsko-mazurskie
LOCATION:IOWA Music Bar\, Broniewskiego 3\, Iława\, 14-200\, Poland
GEO:53.582596;19.571879
X-APPLE-STRUCTURED-LOCATION;VALUE=URI;X-ADDRESS=Broniewskiego 3\, Iława\, 
 14-200\, Poland;X-APPLE-RADIUS=100;X-TITLE=IOWA Music Bar:geo:53.582596,19
 .571879
END:VEVENT
BEGIN:VTIMEZONE
TZID:Europe/Warsaw
X-LIC-LOCATION:Europe/Warsaw
BEGIN:STANDARD
DTSTART:20191027T020000
TZOFFSETFROM:+0200
TZOFFSETTO:+0100
TZNAME:CET
END:STANDARD
END:VTIMEZONE
END:VCALENDAR