BEGIN:VCALENDAR
VERSION:2.0
PRODID:-//wp-events-plugin.com//7.2.3.1//EN
TZID:Europe/Warsaw
X-WR-TIMEZONE:Europe/Warsaw
BEGIN:VEVENT
UID:27516@night4u.pl
DTSTART;TZID=Europe/Warsaw:20190927T180000
DTEND;TZID=Europe/Warsaw:20190928T010000
DTSTAMP:20190914T111153Z
URL:https://night4u.pl/wydarzenia/sarius-we-wroclawiu-pierwsza-trasa-po-ko
 ncu-swiata/
SUMMARY:Sarius we Wrocławiu | Pierwsza Trasa Po Końcu Świata
DESCRIPTION:Zapraszamy na premierowy koncert Sariusa we Wrocławiu!\n\nBILE
 TY: https://ticketos.pl/event/2229\n\nKoncert odbywa się w ramach To Nie 
 Jest Kolejny Festiwal\n\nWYDARZENIE WŁAŚCIWE: https://www.facebook.com/e
 vents/448474085625388/
ATTACH;FMTTYPE=image/jpeg:https://night4u.pl/wp-content/uploads/2019/09/64
 050_image_70585622_2375401905868873_2475999966984667136_o.jpg
CATEGORIES:dolnośląskie
LOCATION:A2 - Centrum Koncertowe\, Góralska 5\, Wroclaw\, 53-610\, Poland
GEO:51.108613;17.001703
X-APPLE-STRUCTURED-LOCATION;VALUE=URI;X-ADDRESS=Góralska 5\, Wroclaw\, 53-
 610\, Poland;X-APPLE-RADIUS=100;X-TITLE=A2 - Centrum Koncertowe:geo:51.108
 613,17.001703
END:VEVENT
BEGIN:VTIMEZONE
TZID:Europe/Warsaw
X-LIC-LOCATION:Europe/Warsaw
BEGIN:DAYLIGHT
DTSTART:20190331T030000
TZOFFSETFROM:+0100
TZOFFSETTO:+0200
TZNAME:CEST
END:DAYLIGHT
END:VTIMEZONE
END:VCALENDAR