BEGIN:VCALENDAR
VERSION:2.0
PRODID:-//wp-events-plugin.com//7.2.3.1//EN
TZID:Europe/Warsaw
X-WR-TIMEZONE:Europe/Warsaw
BEGIN:VEVENT
UID:39851@night4u.pl
DTSTART;TZID=Europe/Warsaw:20210923T190000
DTEND;TZID=Europe/Warsaw:20210923T230000
DTSTAMP:20210908T144821Z
URL:https://night4u.pl/wydarzenia/satarial-ru-at-klub-vinyl-rzeszow/
SUMMARY:SATARIAL (RU) at Klub Vinyl Rzeszów
DESCRIPTION:Klub Vinyl prezentuje: \nw ramach europejskiej trasy * 30 year 
 of extreme metal *\nkoncert zespoła: SATARIAL:\n\nSATARIAL - To najbardzi
 ej niezwykły przedstawiciel rosyjskiej sceny metalowej. Zespół był źr
 ódłem rosyjskiego ruchu black metalowego. Zespół znany jest nie tylko 
 ze swojej muzyki\, ale także ze swoich czarujących koncertów. Obecnie d
 ziałalność koncertowa Satarial w Rosji jest zakazana.\nNa koncercie Sat
 arial możesz cieszyć się muzyką\, przepełnioną mistycyzmem\, usłysz
 eć brzmienie rzadkich ludowych i nordyckich instrumentów szamańskich w 
 połączeniu z metalowymi riffami\, aby zobaczyć magiczne tańce kapłane
 k\, oddychać kadzidłem Księżyca i pić wino z kotła bezbożna wiedźm
 a. Otrzymasz niezapomniane wrażenia i możemy zagwarantować\, że nigdy 
 wcześniej nie widziałeś podobnego!\nhttps://www.facebook.com/SATARIAL-6
 8262948642/\nhttps://www.youtube.com/channel/UCuV7DkGNcNpKmF49uQINeIA?view
 _as=subscriber\nhttps://satarial.bandcamp.com
ATTACH;FMTTYPE=image/jpeg:https://night4u.pl/wp-content/uploads/2019/12/11
 9463_image_78938569_10158203433583643_1834013909418246144_n.jpg
CATEGORIES:podkarpackie
LOCATION:Klub Vinyl\, Fredry 4\, Rzeszów\, 35-005\, Poland
GEO:50.03998;22.00741
X-APPLE-STRUCTURED-LOCATION;VALUE=URI;X-ADDRESS=Fredry 4\, Rzeszów\, 35-00
 5\, Poland;X-APPLE-RADIUS=100;X-TITLE=Klub Vinyl:geo:50.03998,22.00741
END:VEVENT
BEGIN:VTIMEZONE
TZID:Europe/Warsaw
X-LIC-LOCATION:Europe/Warsaw
BEGIN:DAYLIGHT
DTSTART:20210328T030000
TZOFFSETFROM:+0100
TZOFFSETTO:+0200
TZNAME:CEST
END:DAYLIGHT
END:VTIMEZONE
END:VCALENDAR