BEGIN:VCALENDAR
VERSION:2.0
PRODID:-//wp-events-plugin.com//7.2.3.1//EN
TZID:Europe/Warsaw
X-WR-TIMEZONE:Europe/Warsaw
BEGIN:VEVENT
UID:40370@night4u.pl
DTSTART;TZID=Europe/Warsaw:20191228T200000
DTEND;TZID=Europe/Warsaw:20191229T050000
DTSTAMP:20191227T183925Z
URL:https://night4u.pl/wydarzenia/saturday-disco-night-sobota-28-12-club-8
 0/
SUMMARY:Saturday Disco Night // Sobota 28.12 - Club 80
DESCRIPTION:SATURDAY DISCO NIGHT // Sobota 28.12 - Club 80\n\nW sobotę 28 
 grudnia zapraszamy na intensywne pozbywanie się poświątecznych kalorii 
 do Club 80! 😂 Pomoże w tym Wasz ulubieniec Dj Marco\, który zaserwuje
  Wam największe hity DISCO! 💃🕺\n\nStartujemy o 20:00 - do zobaczeni
 a! 🔥\n \n--\n🎧 Imprezę nakręca: DJ MARCO\n--\nℹ INFO\n\n➡ STAR
 T: 🕘 20.00 | DOOR SELECTION\n\n➡ REZERWACJE\n⌨ https://club80gliwic
 e.superboss.pl/\n\n➡ REGULAMIN KLUBU\nhttps://bit.ly/2AqoA65\n\n➡ PORO
 ZMAWIAJ ONLINE \nm.me/Club80.Gliwice\n--\nwww.club80.pl\nwww.fb.com/Club80
 .Gliwice
ATTACH;FMTTYPE=image/jpeg:https://night4u.pl/wp-content/uploads/2019/12/12
 1889_image_81117341_2393754064066240_7418093275417935872_o.jpg
CATEGORIES:śląskie
LOCATION:Club 80 Gliwice\, Dubois 22\, Gliwice\, 44-100\, Poland
GEO:50.300203;18.672661
X-APPLE-STRUCTURED-LOCATION;VALUE=URI;X-ADDRESS=Dubois 22\, Gliwice\, 44-10
 0\, Poland;X-APPLE-RADIUS=100;X-TITLE=Club 80 Gliwice:geo:50.300203,18.672
 661
END:VEVENT
BEGIN:VTIMEZONE
TZID:Europe/Warsaw
X-LIC-LOCATION:Europe/Warsaw
BEGIN:STANDARD
DTSTART:20191027T020000
TZOFFSETFROM:+0200
TZOFFSETTO:+0100
TZNAME:CET
END:STANDARD
END:VTIMEZONE
END:VCALENDAR