BEGIN:VCALENDAR
VERSION:2.0
PRODID:-//wp-events-plugin.com//7.2.3.1//EN
TZID:Europe/Warsaw
X-WR-TIMEZONE:Europe/Warsaw
BEGIN:VEVENT
UID:51796@night4u.pl
DTSTART;TZID=Europe/Warsaw:20241221T210000
DTEND;TZID=Europe/Warsaw:20241222T000000
DTSTAMP:20241220T203347Z
URL:https://night4u.pl/wydarzenia/saturday-mood-dj-adamus-21-12-pbounce-st
 art-2100-hulakula-warszawa/
SUMMARY:SATURDAY MOOD  | DJ ADAMUS  | 21.12  | PBOUNCE  | START 21:00  | HU
 LAKULA  | WARSZAWA
DESCRIPTION:💿 Saturday Mood w Hulakula! 💿\n\nCo to będzie za wieczó
 r! 🤩 21 grudnia widzimy się na parkiecie wśród muzycznych hitów od 
 DJ ADAMUSA! 🎶 To człowiek wielu talentów! Producent muzyczny\, dj\, r
 emixer\, muzyk\, kompozytor i dziennikarz. Wyprodukował ponad 50 różnyc
 h płyt z pogranicza hip hopu\, muzyki klubowej i popu. Od ponad 20 lat co
 raz bardziej aktywny na polskiej scenie klubowej. Już w sobotę będzie n
 a naszej! 🎧🪩 Nie będzie nudy! A parkiet rozgrzeje genialna PBOUNCE!
  🪩🕺Nie możemy się doczekać tego wieczoru! 🤩\n\nCo Cię czeka?\
 n\n🎧 Energiczne sety!\n\n💫 Świetna zabawa do białego rana!\n\n🎟
 ️ Bilety już od 25PLN!\n\nZabierz znajomych i bawcie się z nami w Hula
 kula! 🪩\n\n📆 21 grudnia 2024\n\n⏰ 21:00\n\n📍 Jagiellońska 82B\
 , Warszawa\n\nWidzimy się! 💿💙\n\nPatroni wydarzenia:\nWSDJ STUDIO\n
 Radio ESKA\nLECH\n\n#hulakula #partytime #warszawaevents #musicweekend
ATTACH;FMTTYPE=image/jpeg:https://night4u.pl/wp-content/uploads/2024/12/SA
 TURDAY-MOOD-DJ-ADAMUS-21.12-PBOUNCE-START-21-00-HULAKULA-WARSZAWA.jpg
CATEGORIES:mazowieckie
LOCATION:Jagiellońska 82B\, Warsaw\, Poland\, Jagiellońska 82B\, Warsaw\,
  Poland\, 
X-APPLE-STRUCTURED-LOCATION;VALUE=URI;X-ADDRESS=Jagiellońska 82B\, Warsaw\
 , Poland\, ;X-APPLE-RADIUS=100;X-TITLE=Jagiellońska 82B\, Warsaw\, Poland
 :geo:0,0
END:VEVENT
BEGIN:VTIMEZONE
TZID:Europe/Warsaw
X-LIC-LOCATION:Europe/Warsaw
BEGIN:STANDARD
DTSTART:20241027T020000
TZOFFSETFROM:+0200
TZOFFSETTO:+0100
TZNAME:CET
END:STANDARD
END:VTIMEZONE
END:VCALENDAR