BEGIN:VCALENDAR
VERSION:2.0
PRODID:-//wp-events-plugin.com//7.2.3.1//EN
TZID:Europe/Warsaw
X-WR-TIMEZONE:Europe/Warsaw
BEGIN:VEVENT
UID:25885@night4u.pl
DTSTART;TZID=Europe/Warsaw:20190907T200000
DTEND;TZID=Europe/Warsaw:20190908T050000
DTSTAMP:20190830T163200Z
URL:https://night4u.pl/wydarzenia/saturday-night-%e2%9c%aa-sob-07-09-club-
 80/
SUMMARY:Saturday Night ✪ Sob. 07.09 - Club 80
DESCRIPTION:Saturday Night ✪ Sob. 07.09 - Club 80\n\n7 września w sobot
 ę zapraszamy na Saturday Night w Club 80! ? \nNiezapomniana muzyka\, mił
 a atmosfera\, najlepsza zabawa to wszystko jak zwykle czeka na Was w Waszy
 m ulubionym imprezowym miejscu na mapie Śląska!! ?\n\nStartujemy o 20:00
  - bądźcie z nami! ???\n\n?Pamiętajcie o czekających na Was promocjach
  na barach. Szukajcie na mieście naszych hostess.\n--\nImprezę nakręca:
  DJ MARCO\n--\nℹ INFO\n\n➡ START: ? 20.00 | DOOR SELECTION\n\n➡ REZE
 RWACJE\n? 601 932 923\n\n➡ REGULAMIN KLUBU\nhttps://bit.ly/2AqoA65\n\n
 ➡ POROZMAWIAJ ONLINE \nm.me/Club80.Gliwice\n\n➡ WSTĘP\nPANIE - 10zł\
 nPANOWIE - 15zł\n--\nwww.club80.pl\nwww.fb.com/Club80.Gliwice
ATTACH;FMTTYPE=image/jpeg:https://night4u.pl/wp-content/uploads/2019/08/60
 604_image_69899528_2168701439904838_6222150882998353920_o.jpg
CATEGORIES:śląskie
LOCATION:Club 80 Gliwice\, Dubois 22\, Gliwice\, 44-100\, Poland
GEO:50.300203;18.672661
X-APPLE-STRUCTURED-LOCATION;VALUE=URI;X-ADDRESS=Dubois 22\, Gliwice\, 44-10
 0\, Poland;X-APPLE-RADIUS=100;X-TITLE=Club 80 Gliwice:geo:50.300203,18.672
 661
END:VEVENT
BEGIN:VTIMEZONE
TZID:Europe/Warsaw
X-LIC-LOCATION:Europe/Warsaw
BEGIN:DAYLIGHT
DTSTART:20190331T030000
TZOFFSETFROM:+0100
TZOFFSETTO:+0200
TZNAME:CEST
END:DAYLIGHT
END:VTIMEZONE
END:VCALENDAR