BEGIN:VCALENDAR
VERSION:2.0
PRODID:-//wp-events-plugin.com//7.2.3.1//EN
TZID:Europe/Warsaw
X-WR-TIMEZONE:Europe/Warsaw
BEGIN:VEVENT
UID:29386@night4u.pl
DTSTART;TZID=Europe/Warsaw:20191005T210000
DTEND;TZID=Europe/Warsaw:20191006T050000
DTSTAMP:20191011T070017Z
URL:https://night4u.pl/wydarzenia/saturday-night-fever-sobota-05-10/
SUMMARY:Saturday Night Fever // Sobota 05.10 //
DESCRIPTION:5 października czeka Was prawdziwa Gorączka Sobotniej Nocy. P
 rzyjdź i zobacz jak przenosimy się na całkowicie nowy poziom imprezy! N
 ie siedź w domu\, wpadaj do Klub30!\n\nSpotykamy się na ul. Jasnej 7\, o
 d godziny 21:00.\n\nLINE-UP:\nNOVACK/HUNTER (OLD&amp\;NEW)\nALAN WHITE/DEM
 ANU (CLUB SOUNDS)\nVOOYO (ROCK)\n\n---------------------------------------
 ---------------------------------------------\nDla kogo jest Klub30 ? \nSz
 ykujemy dla Was miejsce\, w którym bez problemu znajdziecie wspólny jęz
 yk z innymi klubowiczami. Nie spotkasz tu swojej córki\, nie spotkasz tu 
 swoich studentów...\nZa to na pewno spotkasz ludzi\, którzy nie wyobraż
 ają sobie siedzieć wieczorem w domu.\n----------------------------------
 --------------------------------------------------\nSTART: 21:00\n\nWSTĘP
 :\ndo 22:00 - 10 PLN\npo 22:00 - 15 PLN\n\nRezerwacje: 574 649 583 (wtorek
  - sobota\, 16:00 - 19:00)\n\nW naszym klubie istnieje możliwość przygo
 towania cateringu! To świetna opcja na wieczory panieńskie\, kawalerskie
  czy spotkania biznesowe. Jeżeli jesteś zainteresowany/a - powiadom nas 
 o tym przy rezerwacji telefonicznej!\n\nNajlepiej po trzydziestce... :) \n
 Obowiązuje door selection
ATTACH;FMTTYPE=image/jpeg:https://night4u.pl/wp-content/uploads/2019/09/67
 918_image_70972357_2175709056055333_7353483098836697088_o.jpg
CATEGORIES:lubelskie
LOCATION:Klub30 Lublin\, Lublin\, Poland
GEO:51.249038;22.552872
X-APPLE-STRUCTURED-LOCATION;VALUE=URI;X-ADDRESS=Lublin\, Poland;X-APPLE-RAD
 IUS=100;X-TITLE=Klub30 Lublin:geo:51.249038,22.552872
END:VEVENT
BEGIN:VTIMEZONE
TZID:Europe/Warsaw
X-LIC-LOCATION:Europe/Warsaw
BEGIN:DAYLIGHT
DTSTART:20190331T030000
TZOFFSETFROM:+0100
TZOFFSETTO:+0200
TZNAME:CEST
END:DAYLIGHT
END:VTIMEZONE
END:VCALENDAR