BEGIN:VCALENDAR
VERSION:2.0
PRODID:-//wp-events-plugin.com//7.2.3.1//EN
TZID:Europe/Warsaw
X-WR-TIMEZONE:Europe/Warsaw
BEGIN:VEVENT
UID:50282@night4u.pl
DTSTART;TZID=Europe/Warsaw:20200321T180000
DTEND;TZID=Europe/Warsaw:20200322T060000
DTSTAMP:20200313T090527Z
URL:https://night4u.pl/wydarzenia/saturday-night-fever-w-antrakcie/
SUMMARY:Saturday Night Fever w Antrakcie !
DESCRIPTION:Gorączka sobotniej nocy w Antrakcie od godziny 18:00 do ostatn
 iego gościa przy muzyce lat 80'90' \, hitach z pierwszych miejsc przeboj
 ów i polskich szlagierach dla 30\, 40 latków i nie tylko ... Nie lubisz 
 stać w długiej kolejce do wejścia \, przyjdź wcześniej przed 22:00 je
 steśmy już otwarci od 18:00 nie musisz szykować nic w domu marnując cz
 as i energię ...\, nie musisz też narażać się na dodatkowe koszta zap
 raszając gości do restauracji \, ponieważ mamy wyśmienity catering i i
 mprezowanie możesz zacząć zapraszając gości np. do sali VIP na godz. 
 20:00 \;)\n\nW każdą sobotę gra REZYDENT klubu D.J. Fresh Marcin Kowals
 ki znany z takich kultowych klubów jak Dagor \, Dublin Pub itd specjalizu
 jącego się w muzyce lat 80'90' mającego z pewnością jeden z najwieksz
 ych zbiorów utworów z tego okresu w wersji oryginalnej i coverów ... Pr
 zyjdź \, a nie będziesz chciał aby ten wieczór skończył się ...\n\n
 Rezerwacje\n tel. 508 872 366 mail. antraktclub@antraktclub.pl
ATTACH;FMTTYPE=image/jpeg:https://night4u.pl/wp-content/uploads/2020/03/17
 6020_image_88241891_1480112938830582_5319037711552610304_o.jpg
CATEGORIES:łódzkie
LOCATION:Antrakt Club\, Zachodnia 95\, Łódź\, 90-721\, Poland
GEO:51.772595;19.452709
X-APPLE-STRUCTURED-LOCATION;VALUE=URI;X-ADDRESS=Zachodnia 95\, Łódź\, 90
 -721\, Poland;X-APPLE-RADIUS=100;X-TITLE=Antrakt Club:geo:51.772595,19.452
 709
END:VEVENT
BEGIN:VTIMEZONE
TZID:Europe/Warsaw
X-LIC-LOCATION:Europe/Warsaw
BEGIN:STANDARD
DTSTART:20191027T020000
TZOFFSETFROM:+0200
TZOFFSETTO:+0100
TZNAME:CET
END:STANDARD
END:VTIMEZONE
END:VCALENDAR