BEGIN:VCALENDAR
VERSION:2.0
PRODID:-//wp-events-plugin.com//7.2.3.1//EN
TZID:Europe/Warsaw
X-WR-TIMEZONE:Europe/Warsaw
BEGIN:VEVENT
UID:11741@night4u.pl
DTSTART;TZID=Europe/Warsaw:20190413T220000
DTEND;TZID=Europe/Warsaw:20190414T043000
DTSTAMP:20190403T193723Z
URL:https://night4u.pl/wydarzenia/saturday-night-fever-with-esn-szczecin/
SUMMARY:Saturday Night Fever with ESN Szczecin
DESCRIPTION:Tak ? Zapraszamy na sobotnie Party w Disco na Deptaku ? \n\nPrz
 ygotujcie się na mocne uderzenie w rytmie disco\, hitów lat 70.\,80 i 90
 .\, nie zabraknie również współczesnych\, tanecznych kawałków. Zosta
 ń Królem parkietu wspólnie z Nami w najbardziej wyluzowanym lokalu w mi
 eście. Daj się porwać zabawie.  Oficjalny partner Radio Złote Przeboje
 .\n\nSOBOTY/SATURDAYS\ngodz. 22.00\n\nCENNIK WSTĘPU:\n? Panie - 10 zł\n?
  Panowie - 15 zł \n* w tym dniu darmowy wstęp z kartą ESN!\n\n☎ telef
 oniczna rezerwacje loży i stolików - 795 58 88 44\n\n✅ rezerwacje są 
 bezpłatne - minimalne zamówienie u kelnerki dla stolików to 100\,00 PLN
 \, dla loży w soboty to 200\,00 PLN. Zachęcamy do składania rezerwacji 
 z wyprzedzeniem. \n\n*polecamy naszą kuchnię ! zamówienia: info@discosz
 czecin.pl\n\nKlimat muzyczny w skrócie :) od Dr Robo\nhttp://bit.ly/2pwIT
 ba\n------------------\nDEPTAK BOGUSŁAWA\n/Byłe B-52/\nul. Ks. Bogusław
 a X 8/1\n70-440 Szczecin
ATTACH;FMTTYPE=image/jpeg:https://night4u.pl/wp-content/uploads/2019/04/30
 171_image_56300184_2091467987589007_8093539834049593344_n.jpg
CATEGORIES:zachodniopomorskie
LOCATION:Disco na Deptaku\, ul. Ks. Bogusława X 8/1\, Szczecin\, 70-440\, 
 Poland
GEO:53.429722;14.543838
X-APPLE-STRUCTURED-LOCATION;VALUE=URI;X-ADDRESS=ul. Ks. Bogusława X 8/1\, 
 Szczecin\, 70-440\, Poland;X-APPLE-RADIUS=100;X-TITLE=Disco na Deptaku:geo
 :53.429722,14.543838
END:VEVENT
BEGIN:VTIMEZONE
TZID:Europe/Warsaw
X-LIC-LOCATION:Europe/Warsaw
BEGIN:DAYLIGHT
DTSTART:20190331T030000
TZOFFSETFROM:+0100
TZOFFSETTO:+0200
TZNAME:CEST
END:DAYLIGHT
END:VTIMEZONE
END:VCALENDAR