BEGIN:VCALENDAR
VERSION:2.0
PRODID:-//wp-events-plugin.com//7.2.3.1//EN
TZID:Europe/Warsaw
X-WR-TIMEZONE:Europe/Warsaw
BEGIN:VEVENT
UID:46707@night4u.pl
DTSTART;TZID=Europe/Warsaw:20200229T220000
DTEND;TZID=Europe/Warsaw:20200301T060000
DTSTAMP:20200331T141831Z
URL:https://night4u.pl/wydarzenia/saturday-night-lista-fb-za-free-do-godz-
 2300-4/
SUMMARY:Saturday night / / Lista fb za free do godz. 23:00
DESCRIPTION:Zaczynamy karaoke na malej sali i dyskoteką  do białego rana 
 ( prowadzenie - dj.Gabi ! :-) ) \nNie zabraknie konkursów i nagród \, za
 gramy disco polo \, latino \, pop i wszystko przy czym lubicie się bawić
  .\nDyskoteka na dużej sali \, start 22:00 Dj.Piter\n====================
 ===============================\nSuper promocje do godz: 24:00\n- Whisky W
 illiam Peel + pepsi - 11zł \n- piwo lane - 0\,5 l - 8 zł \n- szoty 0\,4 
 - 8 zł \n- drinki z wódek podstawowych 9 zł \n=========================
 =========================\nWstęp:15 zł \nLista fb wstęp za free do godz
 :23:00 ( listę zamykamy o godz:19:00 wystarczy kliknąć "wezmę udział 
 " )\nObowiązuje promocja bilet za bilet\nZapraszamy
ATTACH;FMTTYPE=image/jpeg:https://night4u.pl/wp-content/uploads/2020/02/15
 3497_image_84298513_10158684838092908_3581053214969036800_o.jpg
CATEGORIES:łódzkie
END:VEVENT
BEGIN:VTIMEZONE
TZID:Europe/Warsaw
X-LIC-LOCATION:Europe/Warsaw
BEGIN:STANDARD
DTSTART:20191027T020000
TZOFFSETFROM:+0200
TZOFFSETTO:+0100
TZNAME:CET
END:STANDARD
END:VTIMEZONE
END:VCALENDAR