BEGIN:VCALENDAR
VERSION:2.0
PRODID:-//wp-events-plugin.com//7.2.3.1//EN
TZID:Europe/Warsaw
X-WR-TIMEZONE:Europe/Warsaw
BEGIN:VEVENT
UID:40290@night4u.pl
DTSTART;TZID=Europe/Warsaw:20191228T220000
DTEND;TZID=Europe/Warsaw:20191229T060000
DTSTAMP:20200331T204108Z
URL:https://night4u.pl/wydarzenia/saturday-night-lista-fb-za-free-do-godz-
 2300/
SUMMARY:Saturday night / / Lista fb za free do godz. 23:00
DESCRIPTION:Zaczynamy karaoke na malej sali i dyskoteką  do białego rana 
 ( prowadzenie - dj.Gabi ! :-) ) \nNie zabraknie konkursów i nagród \, za
 gramy disco polo \, latino \, pop i wszystko przy czym lubicie się bawić
  .\nDyskoteka na dużej sali \, start 22:00 Dj.Piter \n===================
 ================================\nSuper promocje do godz: 24:00\n- Whisky 
 William Peel + pepsi - 10zł \n- piwo lane - 0\,5 l - 7 zł \n- szoty 0\,4
  - 7 zł \n- drinki z wódek podstawowych 8 zł \n========================
 ==========================\nWstęp: do godz. 24:00 - 10 zł \nLista fb wst
 ęp za free do godz:23:00 ( listę zamykamy o godz:20:00 wystarczy klikną
 ć "wezmę udział " )\npo 24:00 = 15 zł \nObowiązuje promocja bilet za 
 bilet\nZapraszamy
ATTACH;FMTTYPE=image/jpeg:https://night4u.pl/wp-content/uploads/2019/12/12
 1558_image_80479930_10158499663837908_5145553541401673728_n.jpg
CATEGORIES:łódzkie
LOCATION:NARRAGANSET\, Gdańska 129\, Łódź\, 90-519\, Poland
GEO:51.759549;19.450388
X-APPLE-STRUCTURED-LOCATION;VALUE=URI;X-ADDRESS=Gdańska 129\, Łódź\, 90
 -519\, Poland;X-APPLE-RADIUS=100;X-TITLE=NARRAGANSET:geo:51.759549,19.4503
 88
END:VEVENT
BEGIN:VTIMEZONE
TZID:Europe/Warsaw
X-LIC-LOCATION:Europe/Warsaw
BEGIN:STANDARD
DTSTART:20191027T020000
TZOFFSETFROM:+0200
TZOFFSETTO:+0100
TZNAME:CET
END:STANDARD
END:VTIMEZONE
END:VCALENDAR