BEGIN:VCALENDAR
VERSION:2.0
PRODID:-//wp-events-plugin.com//7.2.3.1//EN
TZID:Europe/Warsaw
X-WR-TIMEZONE:Europe/Warsaw
BEGIN:VEVENT
UID:4974@night4u.pl
DTSTART;TZID=Europe/Warsaw:20190209T220000
DTEND;TZID=Europe/Warsaw:20190210T050000
DTSTAMP:20190124T163113Z
URL:https://night4u.pl/wydarzenia/saturday-night-melanz-2/
SUMMARY:Saturday Night - Melanż
DESCRIPTION:Hey\, Hi\, Hello!\n\n//English below//\n\nChcesz zaszaleć w we
 ekend?\nBawić się w najlepszym towarzystwie w świetnym miejscu?\nPrzy n
 ajgorętszych hitach i niezawodnych złotych kawałkach?\n\nSpędź sobot
 ę w Melanżu! Niezapomniana impreza\, która trwa do rana!?\n\nunikalna a
 tmosfera\, \nszeroki wybór drinków i szotów na barze\,\npromocje i nies
 podzianki! \n\nDwóch znakomitych djów zadba o to by temperatura na parki
 ecie nie spadała ani na chwilę!\nhip-hop\, house\, crunk\, dancehall\, r
 ’n’b… ulubione hity nowe i stare w mistrzowskich remiksach w wydaniu
  \nDj Dre & Dj Machado!\n\nImpreza w Melanżu nigdy się nie kończy\, zap
 raszamy wszystkich na naszego aftera!\n➡️ https://web.facebook.com/eve
 nts/276747506340915/\n\nNie może was zabraknąć! Każda sobota start 22:
 00!???\n_____________________________________________________\n\nWant to h
 ave real fun this weekend? \nParty among great people in cool pace?\nTo th
 e best music\, latest hits and favorite songs? \n\nCome spend Saturday at 
 Melanż! Unforgettable party\, that goes on till morning!?\n\nunique atmos
 phere\,\nwide range of drinks and shots\, \npromotions and surplices on th
 e bar!\n\nTwo great djs will make sure the temperature on the dance floor 
 never drops!\nhip-hop\, house\, crunk\, dancehall\, r’n’b… favorite 
 hits new and old in the masterful remixes of \nDj Dre & Dj Machado\n\nPart
 y in Melanż never ends\, so make sure to come to our after!\n➡️ https
 ://web.facebook.com/events/276747506340915/\n\nYou can’t miss it! Every 
 Saturday start 10pm!???
ATTACH;FMTTYPE=image/jpeg:https://night4u.pl/wp-content/uploads/2019/01/15
 787_image_50506376_10155738604691783_5976418366426972160_o.jpg
CATEGORIES:dolnośląskie
LOCATION:Melanż\, Wroclaw\, Poland
GEO:51.109812;17.02551
X-APPLE-STRUCTURED-LOCATION;VALUE=URI;X-ADDRESS=Wroclaw\, Poland;X-APPLE-RA
 DIUS=100;X-TITLE=Melanż:geo:51.109812,17.02551
END:VEVENT
BEGIN:VTIMEZONE
TZID:Europe/Warsaw
X-LIC-LOCATION:Europe/Warsaw
BEGIN:STANDARD
DTSTART:20181028T020000
TZOFFSETFROM:+0200
TZOFFSETTO:+0100
TZNAME:CET
END:STANDARD
END:VTIMEZONE
END:VCALENDAR