BEGIN:VCALENDAR
VERSION:2.0
PRODID:-//wp-events-plugin.com//7.2.3.1//EN
TZID:Europe/Warsaw
X-WR-TIMEZONE:Europe/Warsaw
BEGIN:VEVENT
UID:20334@night4u.pl
DTSTART;TZID=Europe/Warsaw:20190629T200000
DTEND;TZID=Europe/Warsaw:20190630T050000
DTSTAMP:20190628T224146Z
URL:https://night4u.pl/wydarzenia/saturday-night-party-dj-marco-dj-alvaeo/
SUMMARY:Saturday Night Party | Dj Marco & Dj Alvaeo
DESCRIPTION:PARKIET DISCO | DJ MARCO\nPARKIET DANCE | DJ ALVARO\n----------
 ----------------------------------------\nZagramy słodkie lata '70 '80 '9
 0 za sterami DJ MARCO . Na górnym poziomie Dj ALVARO z hitami dance 2018/
 2019\n--------------------------------------------------\nOPEN : 21.00 | S
 TART 21:00 | DOOR SELECTION | \nREZERWACJE I REGULAMIN KLUBU\nhttps://bit.
 ly/2AqoA65\ntel.517 517 519\nPOROZMAWIAJ ONLINE \nm.me/Club80Premium\n----
 -------------------------------------------------\nwww.club80.pl\nwww.fb.c
 om/Club80Premium\n-----------------------------------------------------
ATTACH;FMTTYPE=image/jpeg:https://night4u.pl/wp-content/uploads/2019/06/48
 830_image_65109341_2894165490655554_1978183312866279424_o.jpg
CATEGORIES:śląskie
LOCATION:Club 80 Siemianowice Śląskie\, Olimpijska 15\, Siemianowice Slas
 kie\, 41-100\, Poland
GEO:50.304733;19.017948
X-APPLE-STRUCTURED-LOCATION;VALUE=URI;X-ADDRESS=Olimpijska 15\, Siemianowic
 e Slaskie\, 41-100\, Poland;X-APPLE-RADIUS=100;X-TITLE=Club 80 Siemianowic
 e Śląskie:geo:50.304733,19.017948
END:VEVENT
BEGIN:VTIMEZONE
TZID:Europe/Warsaw
X-LIC-LOCATION:Europe/Warsaw
BEGIN:DAYLIGHT
DTSTART:20190331T030000
TZOFFSETFROM:+0100
TZOFFSETTO:+0200
TZNAME:CEST
END:DAYLIGHT
END:VTIMEZONE
END:VCALENDAR