BEGIN:VCALENDAR
VERSION:2.0
PRODID:-//wp-events-plugin.com//7.2.3.1//EN
TZID:Europe/Warsaw
X-WR-TIMEZONE:Europe/Warsaw
BEGIN:VEVENT
UID:34387@night4u.pl
DTSTART;TZID=Europe/Warsaw:20191102T213000
DTEND;TZID=Europe/Warsaw:20191103T050000
DTSTAMP:20191102T230445Z
URL:https://night4u.pl/wydarzenia/saturday-night-party-w-discoplex-a4-2/
SUMMARY:Saturday Night Party w Discoplex A4
DESCRIPTION:Muzyczne szaleństwo na 5 parkietach‼️
ATTACH;FMTTYPE=image/jpeg:https://night4u.pl/wp-content/uploads/2019/11/88
 724_image_74604673_3134407946571243_3039365634585526272_n.jpg
CATEGORIES:opolskie
END:VEVENT
BEGIN:VTIMEZONE
TZID:Europe/Warsaw
X-LIC-LOCATION:Europe/Warsaw
BEGIN:STANDARD
DTSTART:20191027T020000
TZOFFSETFROM:+0200
TZOFFSETTO:+0100
TZNAME:CET
END:STANDARD
END:VTIMEZONE
END:VCALENDAR