BEGIN:VCALENDAR
VERSION:2.0
PRODID:-//wp-events-plugin.com//7.2.3.1//EN
TZID:Europe/Warsaw
X-WR-TIMEZONE:Europe/Warsaw
BEGIN:VEVENT
UID:2551@night4u.pl
DTSTART;TZID=Europe/Warsaw:20190105T220000
DTEND;TZID=Europe/Warsaw:20190106T050000
DTSTAMP:20190104T231930Z
URL:https://night4u.pl/wydarzenia/saturday-night-romi/
SUMMARY:Saturday Night | Romi
DESCRIPTION:W sobotę zapraszamy na nocne harce przy akompaniamencie świe
 żych i otulających dźwiękach muzyki house\, która przeniesie Was do n
 ajodleglejszych zakątków Waszej zmysłowości i nastroi idealnie w zimow
 ym okresie :) \n\nŚwietnie wyselekcjonowana muzyka klubowai to gwarancja 
 niezapomnianych przeżyć. Nie może Was tam zabraknąć.\n\nLine: \n\nDJ 
 ROMI\n\nStart 22:13\nWstęp 20 PLN \nLista FB Free do 0:13\nSelekcja\n\nPa
 tronat Medialny\nRadio ESKA\n\nREZERWACJE \n+48 732 538 638 \ninfo@room13.
 pl\n______________________\n\nwww.room13.pl\nfb.com/room13club\ninstagram.
 com/room13club
ATTACH;FMTTYPE=image/jpeg:https://night4u.pl/wp-content/uploads/2019/01/92
 06_image_49784173_2262904763733235_6169186785118126080_o.jpg
CATEGORIES:mazowieckie
LOCATION:ROOM 13 Club\, ul. Mazowiecka 13\, Warsaw\, 00-052\, Poland
GEO:52.237999;21.012896
X-APPLE-STRUCTURED-LOCATION;VALUE=URI;X-ADDRESS=ul. Mazowiecka 13\, Warsaw\
 , 00-052\, Poland;X-APPLE-RADIUS=100;X-TITLE=ROOM 13 Club:geo:52.237999,21
 .012896
END:VEVENT
BEGIN:VTIMEZONE
TZID:Europe/Warsaw
X-LIC-LOCATION:Europe/Warsaw
BEGIN:STANDARD
DTSTART:20181028T020000
TZOFFSETFROM:+0200
TZOFFSETTO:+0100
TZNAME:CET
END:STANDARD
END:VTIMEZONE
END:VCALENDAR