BEGIN:VCALENDAR
VERSION:2.0
PRODID:-//wp-events-plugin.com//7.2.3.1//EN
TZID:Europe/Warsaw
X-WR-TIMEZONE:Europe/Warsaw
BEGIN:VEVENT
UID:32559@night4u.pl
DTSTART;TZID=Europe/Warsaw:20191019T220000
DTEND;TZID=Europe/Warsaw:20191019T220000
DTSTAMP:20191019T215603Z
URL:https://night4u.pl/wydarzenia/saturday-pleasure-x-hoster-19-10/
SUMMARY:Saturday Pleasure x HOSTER // 19.10
DESCRIPTION:Klub Teatr ma zaszczyt zaprosić 19 października  na kolejny n
 iesamowity spektakl!\nTej nocy wystąpią dla nas rezydent Grey Club - HOS
 TER!\n\nW ROLI GŁÓWNEJ:\n\n★ HOSTER -  Swoją karierę rozpoczął w 2
 006 roku w klubie Adrenalina w Szczecinie. Grając w klubach na teranie ca
 łej Polski smakował różnych stylów muzycznych\, obecnie częstuję kl
 ubowiczów zmysłowym i wyselekcjonowanym klimatem muzyki House / Deep / N
 u Disco.\n\nPoczątek roku 2014\, to stworzenia własnego studia nagrań o
 raz oficjalnego podcastu z muzyką elektroniczną o nazwie „My Sound On 
 Air”. Gdzie prezentuje najświeższe swoje remixy\, mashupy oraz produkc
 je muzyczne z najlepszych wytwórni klubowych na świecie. Podcasty cyklic
 znie wydawane są w sklepie iTunes Store oraz na Soundcloud. \n\nAktualnie
  oficjalny rezydent klubu Grey w Szczecinie\n\nTeatr Club - Łódź\n\nSta
 rt: 22:00 \n★ DRESS CODE ★\nSMART CASUAL!\n\n\n_______________________
 ___________________\n★ RESERVATIONS ★\ntel.: +48 508 508 488 (pn-sob. 
 12:00-20:00)\n__________________________________________________\n★ CONT
 ACT ★\nTEATR CLUB \nul. Moniuszki4a \nŁódź 90-111
ATTACH;FMTTYPE=image/jpeg:https://night4u.pl/wp-content/uploads/2019/10/78
 332_image_72570630_2431935030419099_2057795762967805952_n.jpg
CATEGORIES:łódzkie
END:VEVENT
BEGIN:VTIMEZONE
TZID:Europe/Warsaw
X-LIC-LOCATION:Europe/Warsaw
BEGIN:DAYLIGHT
DTSTART:20190331T030000
TZOFFSETFROM:+0100
TZOFFSETTO:+0200
TZNAME:CEST
END:DAYLIGHT
END:VTIMEZONE
END:VCALENDAR