BEGIN:VCALENDAR
VERSION:2.0
PRODID:-//wp-events-plugin.com//7.2.3.1//EN
TZID:Europe/Warsaw
X-WR-TIMEZONE:Europe/Warsaw
BEGIN:VEVENT
UID:9170@night4u.pl
DTSTART;TZID=Europe/Warsaw:20190309T200000
DTEND;TZID=Europe/Warsaw:20190309T200000
DTSTAMP:20190307T230426Z
URL:https://night4u.pl/wydarzenia/saturday-vibe-9-03-lista-fb-wstep-free-2
 /
SUMMARY:Saturday Vibe :: 9.03 / Lista Fb wstęp FREE!
DESCRIPTION:Sobota :: 9.03 ?\n\nWszyscy zapisani na listę FB wchodzą za d
 armo do godziny 22:00 ‼️\n\nWystarczy\, że klikniesz "wezmę udział"
  pod tym wydarzeniem (listę zamykamy tego samego dnia o 19:00)\n\nMusic ?
  : DJ \nStartujemy o godzinie ? 20:00\n\nWstęp:\nDo 22:00 lista fb\nReszt
 a 10 zł\n----------------------\nWstęp 18+\nObowiązuje door selection\n
 ----------------------\nRezerwacje miejsc : +48 669 997 245
ATTACH;FMTTYPE=image/jpeg:https://night4u.pl/wp-content/uploads/2019/03/24
 887_image_53333282_2032943126824397_22404447791480832_o.jpg
CATEGORIES:podkarpackie
LOCATION:Czarny Kot Klub\, Rynek 15\, Rzeszów\, 35-064\, Poland
GEO:50.03747;22.00564
X-APPLE-STRUCTURED-LOCATION;VALUE=URI;X-ADDRESS=Rynek 15\, Rzeszów\, 35-06
 4\, Poland;X-APPLE-RADIUS=100;X-TITLE=Czarny Kot Klub:geo:50.03747,22.0056
 4
END:VEVENT
BEGIN:VTIMEZONE
TZID:Europe/Warsaw
X-LIC-LOCATION:Europe/Warsaw
BEGIN:STANDARD
DTSTART:20181028T020000
TZOFFSETFROM:+0200
TZOFFSETTO:+0100
TZNAME:CET
END:STANDARD
END:VTIMEZONE
END:VCALENDAR