BEGIN:VCALENDAR
VERSION:2.0
PRODID:-//wp-events-plugin.com//7.2.3.1//EN
TZID:Europe/Warsaw
X-WR-TIMEZONE:Europe/Warsaw
BEGIN:VEVENT
UID:10444@night4u.pl
DTSTART;TZID=Europe/Warsaw:20190330T210000
DTEND;TZID=Europe/Warsaw:20190331T050000
DTSTAMP:20190318T200122Z
URL:https://night4u.pl/wydarzenia/saturday-with-tomas-drum-30-03-wstep-10-
 15-20-zl/
SUMMARY:Saturday with Tomas Drum // 30.03 // Wstęp: 10\, 15\, 20 zł
DESCRIPTION:[ENGLISH VERSION BELOW]\n\n30 marca w naszym klubie po raz kole
 jny pojawi się Tomasz Majewski aka TOMAS DRUM\, który oczaruje Was dźwi
 ękiem swoich bębnów i nie pozwoli zejść z parkietu do białego rana!\
 n\nNie siedź w domu\, wpadaj do Klub30!\n\nWSTĘP:\n21:00 - 22:00 - 10 z
 ł\n22:00 - 23:00 - 15 zł\npo 23:00 - 20 zł\nUWAGA: klub przeznaczony je
 st dla osób powyżej 25 roku życia - osoby młodsze nie zostaną wpuszcz
 one do klubu (nawet mimo rezerwacji loży).\n\nREZERWACJE STOLIKÓW (WYŁ
 ĄCZNIE ONLINE):\nhttp://krakow.klub30.pl/rezerwacje\n\nRezerwacje włącz
 ane są z 2 tygodniowym wyprzedzeniem!\n----------------------------------
 ----\n\n[ENGLISH VERSION]\n\nYou haven't got plans for a weekend? Now you 
 have! Come to Klub30 and have a party with the best people\, experience th
 e tastiest drinks and dance to the best music. \n\nKlub30 - the best club 
 for thirty-somethings!\n--------------------------------------\nAGE: 25+\n
 ENTRY:\n21:00-22:00 - 10 PLN\n22:00-23:00 - 15 PLN\nafter 23:00 - 20 PLN\n
 --------------------------------------
ATTACH;FMTTYPE=image/jpeg:https://night4u.pl/wp-content/uploads/2019/03/27
 549_image_53830272_2291695984487222_1424769986433384448_o.jpg
CATEGORIES:małopolskie
LOCATION:Klub30 Kraków\, T. Kościuszki 3\, Kraków\, 30-105\, Poland
GEO:50.05513;19.92665
X-APPLE-STRUCTURED-LOCATION;VALUE=URI;X-ADDRESS=T. Kościuszki 3\, Kraków\
 , 30-105\, Poland;X-APPLE-RADIUS=100;X-TITLE=Klub30 Kraków:geo:50.05513,1
 9.92665
END:VEVENT
BEGIN:VTIMEZONE
TZID:Europe/Warsaw
X-LIC-LOCATION:Europe/Warsaw
BEGIN:STANDARD
DTSTART:20181028T020000
TZOFFSETFROM:+0200
TZOFFSETTO:+0100
TZNAME:CET
END:STANDARD
BEGIN:DAYLIGHT
DTSTART:20190331T030000
TZOFFSETFROM:+0100
TZOFFSETTO:+0200
TZNAME:CEST
END:DAYLIGHT
END:VTIMEZONE
END:VCALENDAR