BEGIN:VCALENDAR
VERSION:2.0
PRODID:-//wp-events-plugin.com//7.2.3.1//EN
TZID:Europe/Warsaw
X-WR-TIMEZONE:Europe/Warsaw
BEGIN:VEVENT
UID:49045@night4u.pl
DTSTART;TZID=Europe/Warsaw:20200320T220000
DTEND;TZID=Europe/Warsaw:20200321T050000
DTSTAMP:20200318T180218Z
URL:https://night4u.pl/wydarzenia/sax-it-up-tom-forester-jeyjeysax/
SUMMARY:Sax It Up | Calypso Birthday Party
DESCRIPTION:Sala Główna: Tom Forester &amp\; JeyJeysax &amp\; Soban\nSala
  R'n'B: DJ WU\nLista Facebook do 24:00 wchodzi za FREE !\n*listę zamykamy
  w dniu wydarzenia o godzinie 21:00\n\nBilety dostępne w kasie klubu w dn
 iu imprezy od godziny 22:00 w cenie: kobiety 15zł\, mężczyźni 25 zł\,
  do wyprzedania w kasie klubu przy ul. Paderewskiego 10 (główne wejście
 ).\nWymień bilet wstępu na Lech Premium Ice Cold!\nDo każdego zakupione
 go biletu\, PACHA Poznań zapewnia bezpłatną szatnie.\nW klubie obowiąz
 uje selekcja oraz bezwzględny zakaz żucia gumy. Przed zakupem prosimy o 
 zapoznanie się z regulaminem klubu.
ATTACH;FMTTYPE=image/jpeg:https://night4u.pl/wp-content/uploads/2020/02/16
 8251_image_87438193_2899508140113926_3411142668061769728_o.jpg
CATEGORIES:wielkopolskie
LOCATION:Pacha Poznań\, ul. Paderewskiego 10\, Poznan\, 61-740\, Poland
GEO:52.407928;16.931163
X-APPLE-STRUCTURED-LOCATION;VALUE=URI;X-ADDRESS=ul. Paderewskiego 10\, Pozn
 an\, 61-740\, Poland;X-APPLE-RADIUS=100;X-TITLE=Pacha Poznań:geo:52.40792
 8,16.931163
END:VEVENT
BEGIN:VTIMEZONE
TZID:Europe/Warsaw
X-LIC-LOCATION:Europe/Warsaw
BEGIN:STANDARD
DTSTART:20191027T020000
TZOFFSETFROM:+0200
TZOFFSETTO:+0100
TZNAME:CET
END:STANDARD
END:VTIMEZONE
END:VCALENDAR