BEGIN:VCALENDAR
VERSION:2.0
PRODID:-//wp-events-plugin.com//7.2.3.1//EN
TZID:Europe/Warsaw
X-WR-TIMEZONE:Europe/Warsaw
BEGIN:VEVENT
UID:39345@night4u.pl
DTSTART;TZID=Europe/Warsaw:20191214T210000
DTEND;TZID=Europe/Warsaw:20191215T050000
DTSTAMP:20191215T003042Z
URL:https://night4u.pl/wydarzenia/sax-w-wielkim-miescie-sandecki-sax-sobot
 a-14-12/
SUMMARY:Sax W Wielkim Mieście: Sandecki Sax // Sobota 14.12 //
DESCRIPTION:14 grudnia wystąpi dla Was człowiek z rurą - Sandecki Sax!\n
 \nImprezę wspiera Wyborowa Wódka Exquisite &lt\;3\n\n--------------SANDE
 CKI SAX BIO--------------\nJest muzykiem z wieloletnim doświadczeniem na 
 profesjonalnej scenie muzycznej. Karierę w muzyce klubowej rozpoczął w 
 2004 w trakcie studiów na Akademii Muzycznej w Katowicach. Występował j
 ako solista w najlepszych klubach w Polsce\, Czechach\, Niemczech\, Hiszpa
 nii\, Egipcie\, Grecji i Maroko m.in. Must (Marakesz)\, New Garamond\, Hei
 neken\, Orange (Madryt)\, Space (Warszawa)\, Unique (Sopot)\,Mockba (Toru
 ń)\, Base Club (Krakow) etc.) obok takich Dj´ow jak: Sugarstarr\, Chappe
 ll\, Max C\, Rocky Rock (Black Eyed Peace)\, Bee (BeeLive RadioLocaFm)\, K
 iko Navarro (Pacha Rec\,)\, Yas Cepeda\, Red Supa\, Neevald\, Puffy\, Lone
 \, Chris Jaxx\, Adamus \, Dervish etc.\nOd 2009 roku wspolpracuje z hiszpa
 nskimi artystami m.in Rosario Flores\, Jimmy Barnatan\, Dj Bee\, Kike Mora
 \, The Pushermen i wielu innych.\nJego dynamiczny\, elektryzujacy i zmyslo
 wy styl gry na saksofonie idealnie wkomponowuje sie w muzyke house´owa dz
 ieki czemu utwory dobrze znane nabieraja zupelnie nowego wyrazu.\n--------
 ------------------------------\n\nLINE-UP:\nDJ YREK/SZELA + SANDECKI SAX (
 OLD&amp\;NEW)\nALAN WHITE/SNAFI (CLUB SOUNDS)\nVOOYO (ROCK)\n\n-----------
 -------------------------------------------------------------------------\
 nDla kogo jest Klub30 ? \nSzykujemy dla Was miejsce\, w którym bez proble
 mu znajdziecie wspólny język z innymi klubowiczami. Nie spotkasz tu swoj
 ej córki\, nie spotkasz tu swoich studentów...\nZa to na pewno spotkasz 
 ludzi\, którzy nie wyobrażają sobie siedzieć wieczorem w domu.\n------
 --------------------------------------------------------------------------
 ----\nSTART: 21:00\n\nWSTĘP:\n21:00 - 22:00 - 10 PLN\n22:00 - 23:00 - 15 
 PLN\npo 23:00 - 20 PLN\n\nRezerwacje: 574 649 583 (wtorek - sobota\, 16:00
  - 19:00)\n\nW naszym klubie istnieje możliwość przygotowania cateringu
 ! To świetna opcja na wieczory panieńskie\, kawalerskie czy spotkania bi
 znesowe. Jeżeli jesteś zainteresowany/a - powiadom nas o tym przy rezerw
 acji telefonicznej!\n\nNajlepiej po trzydziestce... :) \nObowiązuje door 
 selection
ATTACH;FMTTYPE=image/jpeg:https://night4u.pl/wp-content/uploads/2019/12/11
 5374_image_78615321_2233086660317572_3019667943903461376_o.jpg
CATEGORIES:lubelskie
LOCATION:Klub30 Lublin\, \, 
X-APPLE-STRUCTURED-LOCATION;VALUE=URI;X-ADDRESS=\, ;X-APPLE-RADIUS=100;X-TI
 TLE=Klub30 Lublin:geo:0,0
END:VEVENT
BEGIN:VTIMEZONE
TZID:Europe/Warsaw
X-LIC-LOCATION:Europe/Warsaw
BEGIN:STANDARD
DTSTART:20191027T020000
TZOFFSETFROM:+0200
TZOFFSETTO:+0100
TZNAME:CET
END:STANDARD
END:VTIMEZONE
END:VCALENDAR