BEGIN:VCALENDAR
VERSION:2.0
PRODID:-//wp-events-plugin.com//7.2.3.1//EN
TZID:Europe/Warsaw
X-WR-TIMEZONE:Europe/Warsaw
BEGIN:VEVENT
UID:50936@night4u.pl
DTSTART;TZID=Europe/Warsaw:20210911T200000
DTEND;TZID=Europe/Warsaw:20210911T200000
DTSTAMP:20210908T144847Z
URL:https://night4u.pl/wydarzenia/scorpions-songs-symphonic-lublin/
SUMMARY:SCORPION'S SONGS SYMPHONIC - Lublin
DESCRIPTION:Scorpion's Song Symphonic: Hurricane Orchestra + Herman Rarebel
 l !! \nW latach 1977 – 1996 był perkusistą przez 19 lat\, w złotym wi
 eku Skorpionów. 100 miliony sprzedanych albumów Scorpions\, a teraz w wi
 eku 70 -ciu lat Herman Rarebell jeszcze raz na nowo: razem z Hurricane Orc
 hestra i swoim zespołem wybiera się w trasę koncertową po Europie. Sco
 rpion's Song Symphonic bilety na trasę już w sprzedaży.\n\nScorpion's S
 ong Symphonic koncerty\nFani w Niemczech\, Austrii\, Polsce\, Czechach\, n
 a Słowacji i Ukrainie będą mieli możliwość zobaczyć jeszcze raz na 
 żywo perkusistę-legendę. To na dodatek sensacja z wyjątkową muzyką n
 a żywo – jeszcze nigdy nie wykonywano w takiej formie muzyki zespołu S
 corpions bo właśnie z orkiestrowym brzmieniem. Piosenki w takiej wersji 
 to w Europie wyjątkowy i niepowtarzalny program\, który będzie towarzys
 zył tej trasie koncertowej\, na której muzyka będzie wykonywana wyłąc
 znie na żywo!\n\nPonad 1\,5 roku trwały przygotowania do aranżacji każ
 dego hitu Scorpions na wszystkie instrumenty orkiestrowe. Większość hit
 ów jest autorstwa Hermana Rarebella. Na czele z utworem: „Rock You Like
  A Hurricaine”. Ta 70-letnia rockowa legenda opowie na scenie również 
 anegdoty jednej z gwiazd rocka. Zdradzi jak wyglądały imprezy po występ
 ach albo jak w 1991 roku szalał Kreml razem z Michaiłem Gorbaczowem gdy 
 zabrzmiały dźwięki „Wind Of Change”\, krótko przed upadkiem Związ
 ku Radzieckiego. W niejednej eleganckiej hali koncertowej zadrżą ściany
  gdy podwójne uderzenie basa Hermana Rarebellsa zabrzmi w Gewandhaus Leip
 zig lub w ICE Kraków.\n\nNa trasie koncertowej ważnym punktem będzie r
 ównież Saarbrücken. Herman Rarebell urodził się wszakże 18.11.1949r.
  w Kraju Saary – Saarland jako prawdziwy skorpion właśnie.\n\nHerman R
 arebell jest przekonany\, że wspólnie z Toby Thalhammerem (Piosenka Plus
  Sp. z o.o.)\, który jest odpowiedzialny za trasę koncertową i całą k
 oncepcję będzie to wielkie muzyczne przeżycie\, które łączy muzykę 
 i granice państw w sposób jakże melodyjny i niepowtarzalny.\n\nPrezento
 wane przez Antyradio i Teraz Rock.
ATTACH;FMTTYPE=image/jpeg:https://night4u.pl/wp-content/uploads/2021/08/18
 6061_image_120316773_119924679856949_135949689948056605_n.jpg
CATEGORIES:lubelskie
LOCATION:Spotkania Kultur\, Plac Teatralny 1\, Lublin\, 20-029\, Poland
GEO:51.247033;22.54863
X-APPLE-STRUCTURED-LOCATION;VALUE=URI;X-ADDRESS=Plac Teatralny 1\, Lublin\,
  20-029\, Poland;X-APPLE-RADIUS=100;X-TITLE=Spotkania Kultur:geo:51.247033
 ,22.54863
END:VEVENT
BEGIN:VTIMEZONE
TZID:Europe/Warsaw
X-LIC-LOCATION:Europe/Warsaw
BEGIN:DAYLIGHT
DTSTART:20210328T030000
TZOFFSETFROM:+0100
TZOFFSETTO:+0200
TZNAME:CEST
END:DAYLIGHT
END:VTIMEZONE
END:VCALENDAR