BEGIN:VCALENDAR
VERSION:2.0
PRODID:-//wp-events-plugin.com//7.2.3.1//EN
TZID:Europe/Warsaw
X-WR-TIMEZONE:Europe/Warsaw
BEGIN:VEVENT
UID:38765@night4u.pl
DTSTART;TZID=Europe/Warsaw:20200917T200000
DTEND;TZID=Europe/Warsaw:20200917T213000
DTSTAMP:20200504T090553Z
URL:https://night4u.pl/wydarzenia/seks-drags-i-kredyty-rafal-rutkowski-gor
 zow-wielkopolski/
SUMMARY:Seks\, drags i kredyty – Rafał Rutkowski – Gorzów Wielkopolsk
 i
DESCRIPTION:„Seks\, Drags i Kredyty” \n\nRafał Rutkowski w swoim nowym
  programie stand-up comedy opowiada m.in. o polskim show-biznesie\, swojej
  aktorskiej karierze\, kryzysie wieku średniego\, o ojcostwie\, oraz zdra
 dza pikantne szczegóły z kręcenia scen erotycznych. Tylko dla ludzi o m
 ocnych przeponach i zwieraczach!!! Program tylko dla widzów dorosłych.\n
 \nSupport: Kamil Kozieł - Stand - up\n\nKomunikat Organizatora\n\n- Wyst
 ęp dla osób\, które ukończyły 18 lat\;\n- Wyprasza się z sali osoby 
 przeszkadzające innym widzom\, bez możliwości otrzymania zwrotu za bile
 ty\;\n- Całkowity zakaz utrwalania\, nagrywania występu.
ATTACH;FMTTYPE=image/jpeg:https://night4u.pl/wp-content/uploads/2019/12/11
 1374_image_72466387_3080423528639753_8725869069967818752_o.jpg
CATEGORIES:lubuskie
LOCATION:C-60\, Zaułek 1\, Gorzów Wielkopolski\, 66-400\, Poland
GEO:52.729476;15.237369
X-APPLE-STRUCTURED-LOCATION;VALUE=URI;X-ADDRESS=Zaułek 1\, Gorzów Wielkop
 olski\, 66-400\, Poland;X-APPLE-RADIUS=100;X-TITLE=C-60:geo:52.729476,15.2
 37369
END:VEVENT
BEGIN:VTIMEZONE
TZID:Europe/Warsaw
X-LIC-LOCATION:Europe/Warsaw
BEGIN:DAYLIGHT
DTSTART:20200329T030000
TZOFFSETFROM:+0100
TZOFFSETTO:+0200
TZNAME:CEST
END:DAYLIGHT
END:VTIMEZONE
END:VCALENDAR