BEGIN:VCALENDAR
VERSION:2.0
PRODID:-//wp-events-plugin.com//7.2.3.1//EN
TZID:Europe/Warsaw
X-WR-TIMEZONE:Europe/Warsaw
BEGIN:VEVENT
UID:2915@night4u.pl
DTSTART;TZID=Europe/Warsaw:20190110T210000
DTEND;TZID=Europe/Warsaw:20190111T050000
DTSTAMP:20190108T162507Z
URL:https://night4u.pl/wydarzenia/selfie-party-i-erasmus-party-i-bpm-prese
 nted-by-vibe/
SUMMARY:Selfie Party I Erasmus Party I BPM Presented by VIBE
DESCRIPTION:Selfie Party\nDobra muzyka\, darmowe drinki i do tego impreza z
  najlepszymi PRZYJACIÓŁMI. Brzmi jak marzenie.\nKlub EGO oraz Erasmus St
 udent Network Gdansk - ESN Gdansk zaprasza Was na imprezę\, która łącz
 y to wszystko w jedną całość.\nZrób Selfie z przyjaciółmi lub nowo 
 poznanymi osobami\, wrzuć zdjęcie na swoje Social Media oznaczając EGO 
 oraz dodając #egolovers a barman stawia Tobie i każdej osobie ze zdjęci
 a  drinka - totalnie za FREE.\nTo co? Widzimy się przy barze!\n\nBPM x PR
 ESENTED BY VIBE \n\nDj Vibe zaprasza wszystkich spragnionych muzycznych wr
 ażeń na cykl imprez BPM do Klubu EGO!\n\nBEATS PER MINUTE\n\nCzyli twoje
  ulubione kawałki których jeszcze nie znasz\, impreza dla tych co wymaga
 ją\, ale też od siebie dają\, wszystkie troski zostają na zewnątrz\, 
 teraz liczy się tylko zabawa i bit\, które z każda minutą wzniosą Ci
 ę wyżej i wyżej!\n\n\nRezerwacje stolików \noraz oferta dla grup zorga
 nizowanych:\n+ 48 731 351 351\n\n▬ 10.02.2019\n▬ Lista FB: free do 22.
 00\n▬ Wejście od 21 roku życia (lub za okazaniem legitymacji studencki
 ej)\n▬ Wejście: 10 pln - 20 pln\n▬ Karty klubowe EGO: Free\n\n\nBPM x
  PRESENTED BY VIBE \n\nDJ Vibe invites all the music experience craving pe
 ople to the cycle of BPM parties to the EGO Club!\n\nBEATS PER MINUTE\n\nA
 ll your favorite tracks\, that you still have not heard\, party for the de
 manding clubbers\, that give back the energy. All the worries are left beh
 ind\, now its only beat and joy\, that fill raise you higher and higher! \
 n\n▬ 10.01.2019\n▬  FB list: free till 22.0”\n▬ Entrance from 21 y
 ears old (Or with student ID)\n▬ FEE: 10 pln - 20 pln\n▬ EGO Clubcards
  : Free
ATTACH;FMTTYPE=image/jpeg:https://night4u.pl/wp-content/uploads/2019/01/99
 70_image_49597615_10156341618569285_3466850472655060992_o.jpg
CATEGORIES:pomorskie
LOCATION:Ego Sopot\, ul. Bohaterów Monte Cassino 53\, Sopot\, 81-767\, Pol
 and
GEO:54.444297;18.566687
X-APPLE-STRUCTURED-LOCATION;VALUE=URI;X-ADDRESS=ul. Bohaterów Monte Cassin
 o 53\, Sopot\, 81-767\, Poland;X-APPLE-RADIUS=100;X-TITLE=Ego Sopot:geo:54
 .444297,18.566687
END:VEVENT
BEGIN:VTIMEZONE
TZID:Europe/Warsaw
X-LIC-LOCATION:Europe/Warsaw
BEGIN:STANDARD
DTSTART:20181028T020000
TZOFFSETFROM:+0200
TZOFFSETTO:+0100
TZNAME:CET
END:STANDARD
END:VTIMEZONE
END:VCALENDAR