BEGIN:VCALENDAR
VERSION:2.0
PRODID:-//wp-events-plugin.com//7.2.3.1//EN
TZID:Europe/Warsaw
X-WR-TIMEZONE:Europe/Warsaw
BEGIN:VEVENT
UID:41663@night4u.pl
DTSTART;TZID=Europe/Warsaw:20200229T190000
DTEND;TZID=Europe/Warsaw:20200301T050000
DTSTAMP:20200229T165403Z
URL:https://night4u.pl/wydarzenia/sen-presents-fatman-scoop-live-i-sb-29-0
 2/
SUMMARY:SEN &amp\; Chivas XV presents: Fatman Scoop LIVE! I sb. 29.02
DESCRIPTION:Zdobywca nagrody Grammy. Producent największych imprezowych hi
 tow XXI wieku. Światowej sławy performer. \n29 lutego wraz z marką Chiv
 as XV zapraszamy Was do naszego domu na wybuchową noc z FATMAN SCOOP we w
 łasnej osobie!\n\nTo od jego piosenek wszyscy DJ-e zaczynaja układanie s
 woich imprezowych playlist. To on\, jak nikt inny łączy hip hop\, pop\, 
 rnb i muzykę klubową. Wulkan energii!\nW ten jeden\, specjalny\, dodatko
 wy dzień roku! \n________________________________________________________
 ___________\n\nDrzwi otwieramy o godzinie 19:00 startując serwisem restau
 racyjnym i koktajlami do godziny 23:00.\n\nOd 23:00 do póżnych godzin no
 cnych prowadzimy życie nocne i serwis klubowy\, w tym najlepszy hip hop w
  tej części kuli ziemskiej.\n\nFatman Scoop LIVE: 1:30 \n\nMuzyka: Hip H
 op\, Rnb\, Pop\, Mashups!\n\nW kwestii rezerwacji stolika w godzinach rest
 auracyjnych czy też w godzinach klubowych prosimy dzwonić\, bądź pisa
 ć do Pawła pod nr. +48 883 025 025 / reservations@senwarsaw.pl. \n\nPros
 imy mieć na uwadze\, że SEN to miejsce o wyjątkowym charakterze. Z tros
 ki o zachowanie klimatu i o Naszych gości każda rezerwacja podlega selek
 cji na wejściu.\n\nWstęp:\n19:00-21:00 = FREE\nOd 22:30 = 30 PLN\n\nPart
 nerem wydarzenia jest: CHIVAS XV \n\nDo zobaczenia w Naszym domu\,\nSEN Te
 am\n\n___________________________________________________________________\
 n\nSEN opens at 19:00\n\nRESTAURANT:\nRestaurant service &amp\; cocktails 
 till 23:00.\nThe kitchen is opened late in the night until 1:00 am. \n\nNI
 GHTLIFE:\nNightlife &amp\; bottle service starts at 23:00.\n\nFatman Scoop
  LIVE: 1:30 am\n\nMUSIC:\nHip Hop\, Rnb\, Pop\, Mashups!\n\nENTRANCE:\n19:
 00-21:00 = FREE\nFrom 22:30 = 30 PLN\n\nFor your full comfort &amp\; table
  reservations:\nPlease contact us via email or cell. \nreservations@senwar
 saw.pl\, tel. +48 883 025 025. \n\nPlease be advised that SEN is a place o
 f unique character. \nTo preserve the unique climate of our place and full
  satisfaction of our guests\, all reservations are subject to individual d
 oor selection at the entrance to our house.\n\nSee you at our house!\nSEN 
 Team
ATTACH;FMTTYPE=image/jpeg:https://night4u.pl/wp-content/uploads/2020/02/13
 0683_image_84098049_990501824680339_6186526951071547392_o.jpg
CATEGORIES:mazowieckie
LOCATION:SEN\, Wioślarska 6\, Warsaw\, 00-411\, Poland
GEO:52.232929;21.040091
X-APPLE-STRUCTURED-LOCATION;VALUE=URI;X-ADDRESS=Wioślarska 6\, Warsaw\, 00
 -411\, Poland;X-APPLE-RADIUS=100;X-TITLE=SEN:geo:52.232929,21.040091
END:VEVENT
BEGIN:VTIMEZONE
TZID:Europe/Warsaw
X-LIC-LOCATION:Europe/Warsaw
BEGIN:STANDARD
DTSTART:20191027T020000
TZOFFSETFROM:+0200
TZOFFSETTO:+0100
TZNAME:CET
END:STANDARD
END:VTIMEZONE
END:VCALENDAR