BEGIN:VCALENDAR
VERSION:2.0
PRODID:-//wp-events-plugin.com//7.2.3.1//EN
TZID:Europe/Warsaw
X-WR-TIMEZONE:Europe/Warsaw
BEGIN:VEVENT
UID:33258@night4u.pl
DTSTART;TZID=Europe/Warsaw:20191109T200000
DTEND;TZID=Europe/Warsaw:20191110T050000
DTSTAMP:20191109T220012Z
URL:https://night4u.pl/wydarzenia/sexualne-niebezpieczne-bawia-sie-w-pewex
 ie-2/
SUMMARY:Sexualne\, Niebezpieczne bawią się w Pewexie!
DESCRIPTION:Seksualne\, Niebezpieczne bawią się w Pewexie! 💃🔥😍\n
 \nZapraszamy wszystkie Seksualne\, Niebezpieczne Panie 9 listopada 2019r. 
 na świetną zabawę do Klubu Muzycznego Pewex!  👯 Impreza do białego 
 rana gwarantowana! \nTańce na barze\,komfortowe loże\,letni taras orzeź
 wiające drinki\,piękne kobiety ..\nNajlepsze hity disco lat 80'\, 90' 20
 00🔥❤️👯 \n\n\nZachęcamy do zorganizowania urodzin imienin\, w gr
 onie przyjaciół ❤️ Proponujemy atrakcyjne pakiety: \n1️⃣Imienino
 we\n2️⃣Urodzinowe \n3️⃣ Towarzyskie \n4️⃣ Panieńskie\n5️⃣
 Kawalerskie\n\nDodatkowo akcja "Szczęśliwy bilet- wygraj szampana"! 🍾
  \nŚwietne promocje i tańce na barze- czyli wszystko co zapowiada świet
 ną imprezę! 💃🔥\n\nJeśli chcesz wejść za darmo- zaproś do wydar
 zenia minimum 100 osób! 🔥\nWrzuć zdjęcie ss na wydarzenie z zaproszo
 nymi gośćmi🔥 \n\n☎️ rezerwacje loży: 501-701-434\nMail: clubpewe
 x@gmail.com \n\n#urodziny\n#imieniny\n#Panieński\n#kawalerski \n#spotkani
 e towarzyskie\nZachęcamy do zapoznania się z naszą ofertą pakietową 
 ❣️\n\nDress code :\nklubowa elegancja \n\n\nGdzie? Klub Muzyczny Pewex
 \,\nNarutowicza 28\nStart: 20:00\nWstęp: 10zł/ osoba\nSelekcja: 21+
ATTACH;FMTTYPE=image/jpeg:https://night4u.pl/wp-content/uploads/2019/10/82
 243_image_72388761_2455957411124282_5317962535209533440_n.jpg
CATEGORIES:łódzkie
END:VEVENT
BEGIN:VTIMEZONE
TZID:Europe/Warsaw
X-LIC-LOCATION:Europe/Warsaw
BEGIN:STANDARD
DTSTART:20191027T020000
TZOFFSETFROM:+0200
TZOFFSETTO:+0100
TZNAME:CET
END:STANDARD
END:VTIMEZONE
END:VCALENDAR