BEGIN:VCALENDAR
VERSION:2.0
PRODID:-//wp-events-plugin.com//7.2.3.1//EN
TZID:Europe/Warsaw
X-WR-TIMEZONE:Europe/Warsaw
BEGIN:VEVENT
UID:34852@night4u.pl
DTSTART;TZID=Europe/Warsaw:20191110T220000
DTEND;TZID=Europe/Warsaw:20191111T050000
DTSTAMP:20191107T091816Z
URL:https://night4u.pl/wydarzenia/sexy-sunday-special-niedziela-na-15-piet
 rze-baltyku/
SUMMARY:Sexy Sunday special! Niedziela na 15.piętrze Bałtyku!
DESCRIPTION:To idealny moment żeby zagrać piękną\, muzyczną imprezę..
 .\n\nW ten jesienny czas przenieść się na wyspę...\n\nPoczuć magię B
 alearów i popłynąć z prądem Ibizy...\n\nAlbo inaczej...niech Ibiza pr
 zyleci do nas! \n\nNiech odwiedzi nasze miasto Wasz ulubiony jej reprezent
 ant - \nMiguel Garjii z Ibiza Global Radio\n\n \n\nPoczujmy z nim Sexy Sun
 day!\n\n \n\nOd prawie pięciuset tygodni neeVald\, jako jedyny Polak rezy
 dujący na stałe w radio na Ibizie\, przenosi nas w świat relaksu\, odpr
 ężenia i muzycznego zapomnienia za pomocą swoich mixów dla Ibiza Globa
 l Radio\n\nSexy Sunday to deep'owy kunszt relaksu\, ale i taneczne\, plaż
 owe brzmienie\, które pozwala unieść się wysoko. \n\nNiedziela - 10teg
 o listopada - to idealny moment\, na który czekaliśmy bardzo długo - po
 niedziałek to ustawowo dzień wolny :) \n\nSexy Sunday w idealny moment\,
  czas\, w idealnym miejscu. Ponad miastem\, w chmurach\, wysoko ponad codz
 iennym życiem. \n\n\n \nPiotr Niwald aka dj neeVald\n\n \nwww.neevald.com
  \n\nwww.soundcloud.com/neevald \n\nwww.facebook.com/sexysunday \n\n \n\n1
 0.11 (niedziela) SEXY SUNDAY special!\n\nMUS bar&amp\;view – 15 piętro 
 biurowca Bałtyk\n\nMiguel Garjij  / Ibiza Global Radio /\n\nneeVald\n\nPe
 queño\n\nBanan On Sax\n\n \n\nstart: 22:00 \n\nbilety: przedsprzedaż 25 
 zł / 30 zł do 23:00 / 35 zł po 23:00 \n\nprzedsprzedaż: https://tinyur
 l.com/IbizaSunday\n\nrezerwacje miejsc: +48 663 786 547
ATTACH;FMTTYPE=image/jpeg:https://night4u.pl/wp-content/uploads/2019/11/91
 384_image_75380432_10157894409652940_6604838950177603584_o.jpg
CATEGORIES:wielkopolskie
LOCATION:Bałtyk\, Poznań\, Ul. Franklina Roosevelta 22\, Poznan\, 60-813\
 , Poland
GEO:52.407174;16.911292
X-APPLE-STRUCTURED-LOCATION;VALUE=URI;X-ADDRESS=Ul. Franklina Roosevelta 22
 \, Poznan\, 60-813\, Poland;X-APPLE-RADIUS=100;X-TITLE=Bałtyk\, Poznań:g
 eo:52.407174,16.911292
END:VEVENT
BEGIN:VTIMEZONE
TZID:Europe/Warsaw
X-LIC-LOCATION:Europe/Warsaw
BEGIN:STANDARD
DTSTART:20191027T020000
TZOFFSETFROM:+0200
TZOFFSETTO:+0100
TZNAME:CET
END:STANDARD
END:VTIMEZONE
END:VCALENDAR