BEGIN:VCALENDAR
VERSION:2.0
PRODID:-//wp-events-plugin.com//7.2.3.1//EN
TZID:Europe/Warsaw
X-WR-TIMEZONE:Europe/Warsaw
BEGIN:VEVENT
UID:6440@night4u.pl
DTSTART;TZID=Europe/Warsaw:20190209T210000
DTEND;TZID=Europe/Warsaw:20190210T040000
DTSTAMP:20190205T173454Z
URL:https://night4u.pl/wydarzenia/show-me-love/
SUMMARY:Show Me Love 
DESCRIPTION:[ENGLISH VERSION BELOW]\n\n9 lutego świętujemy imieniny Walen
 tego w Shine! To czas dla wszystkich zakochanych par\, również tych\, kt
 óre poznały się w naszym klubie 
ATTACH;FMTTYPE=image/jpeg:https://night4u.pl/wp-content/uploads/2019/02/18
 995_image_50936738_1165816083590345_2598103911524990976_o.jpg
CATEGORIES:podkarpackie
LOCATION:Shine Club Rzeszów\, 3 Maja 11\, Rzeszów\, 35-216\, Poland
GEO:50.036459;22.001808
X-APPLE-STRUCTURED-LOCATION;VALUE=URI;X-ADDRESS=3 Maja 11\, Rzeszów\, 35-2
 16\, Poland;X-APPLE-RADIUS=100;X-TITLE=Shine Club Rzeszów:geo:50.036459,2
 2.001808
END:VEVENT
BEGIN:VTIMEZONE
TZID:Europe/Warsaw
X-LIC-LOCATION:Europe/Warsaw
BEGIN:STANDARD
DTSTART:20181028T020000
TZOFFSETFROM:+0200
TZOFFSETTO:+0100
TZNAME:CET
END:STANDARD
END:VTIMEZONE
END:VCALENDAR