BEGIN:VCALENDAR
VERSION:2.0
PRODID:-//wp-events-plugin.com//7.2.3.1//EN
TZID:Europe/Warsaw
X-WR-TIMEZONE:Europe/Warsaw
BEGIN:VEVENT
UID:24686@night4u.pl
DTSTART;TZID=Europe/Warsaw:20190817T210000
DTEND;TZID=Europe/Warsaw:20190818T060000
DTSTAMP:20190815T220855Z
URL:https://night4u.pl/wydarzenia/show-time-exclusive-performance/
SUMMARY:Show Time // Exclusive Performance
DESCRIPTION:Już 17 sierpnia\, w sobotę\, czas na SHOW TIME. To nasz marko
 wy cykl imprez\, które zaskakują\, wzbudzają zachwyt oraz wciągają Wa
 s w niesamowity świat cyrkowo-artystyczny!\n\nTego dnia czekają na Was w
 ystępy artystów scenicznych\, grup cyrkowych oraz magiczne show tańca i
  światła. Całość na pewno Was zaskoczy! Jesteśmy pewni\, że takiego
  SHOW jeszcze nie widzieliście! \n\nZarezerwuj lożę na https://klubpoma
 rancza.pl/katowice/rezerwacjalozy \n\nSELEKCJA: 18+\nStart: 21:00 \n\n????
 ?\nPanie: 15 zł \nPanowie: 20 zł \nPanie do 22:00: FREE\n\n??????\nSala 
 główna: DC-LUCK\, DAVO\nSala dance: MAX KOLANKOV\nCubana: GM\n__________
 ____________\n\n✔????????? ??? ?????? ?????ń??? ? ??????????\, ? ???ż?
  ???????? ? ????????!\n\n✔ Zadzwoń by zarezerwować loże na imprezę: 
 536 901 907 czynny od wtorku do soboty w godzinach od 13:00 do 21:00.
ATTACH;FMTTYPE=image/jpeg:https://night4u.pl/wp-content/uploads/2019/08/58
 043_image_68533236_2635805386438466_4586623428261314560_o.jpg
CATEGORIES:śląskie
LOCATION:Klub Pomarańcza Katowice\, Mickiewicza 4\, Katowice\, 40-092\, Po
 land
GEO:50.25976;19.02082
X-APPLE-STRUCTURED-LOCATION;VALUE=URI;X-ADDRESS=Mickiewicza 4\, Katowice\, 
 40-092\, Poland;X-APPLE-RADIUS=100;X-TITLE=Klub Pomarańcza Katowice:geo:5
 0.25976,19.02082
END:VEVENT
BEGIN:VTIMEZONE
TZID:Europe/Warsaw
X-LIC-LOCATION:Europe/Warsaw
BEGIN:DAYLIGHT
DTSTART:20190331T030000
TZOFFSETFROM:+0100
TZOFFSETTO:+0200
TZNAME:CEST
END:DAYLIGHT
END:VTIMEZONE
END:VCALENDAR