BEGIN:VCALENDAR
VERSION:2.0
PRODID:-//wp-events-plugin.com//7.2.3.1//EN
TZID:Europe/Warsaw
X-WR-TIMEZONE:Europe/Warsaw
BEGIN:VEVENT
UID:36345@night4u.pl
DTSTART;TZID=Europe/Warsaw:20191123T210000
DTEND;TZID=Europe/Warsaw:20191124T050000
DTSTAMP:20191119T110824Z
URL:https://night4u.pl/wydarzenia/show-time-exclusive-show-cirque-dance-%e
 2%98%85-sob-23-11/
SUMMARY:Show Time - Exclusive Show - Cirque &amp\; Dance ★ Sob 23.11
DESCRIPTION:Już 23 listopada\, w sobotę\, czas na SHOW TIME - zaskakując
 a\, wzbudzająca w zachwyt impreza. Daj się wciągnąć w niesamowity św
 iat cyrkowo-artystyczny!\n\nTego dnia czekają na Was występy artystów s
 cenicznych\, grup cyrkowych oraz magiczne show tańca i światła. Całoś
 ć na pewno Was zaskoczy! Jesteśmy pewni\, że takiego SHOW jeszcze nie w
 idzieliście! \n\nTej nocy wszystkie drogi prowadzą do Pomarańczy! \n--\
 nINFORMACJE\n📅 23.11 - SOBOTA\n🕘 Start: 21:00\n🔞 Selekcja: +18\n
 🎫 Wstęp:\nPanie - 10zł\nPanowie - 15zł\nPanie do 22:00 - WSTĘP FREE
 \n📌 Bielsko-Biała\, ul. Grażyńskiego 38\n--\nPROMOCJE\n🎂 Odprawim
 y Twoje urodziny!\nA także zorganizujemy:\n💃 Wieczór Panieński\n🕺
  Wieczór Kawalerski\nRezerwacje od wtorku do soboty od 13:00 do 21:00\n
 📱 536 901 907\n📧 mojaimpreza@pomaranczagroup.pl\n--\nREZERWACJA LOŻ
 Y\nRezerwacje od wtorku do piątku od 11:00 do 16:00\n📱 508 141 760\n--
 \nMUZYKA\nSALA KLUBOWA ▶ DC-LUCK\nSALA DANCE ▶ MARTIN\n--\nINSTAGRAM\n
 www.instagram.com/pomarancza_bielsko
ATTACH;FMTTYPE=image/jpeg:https://night4u.pl/wp-content/uploads/2019/11/98
 334_image_78128643_2550759588293497_8374420864027852800_n.jpg
CATEGORIES:śląskie
LOCATION:Klub Pomarańcza Bielsko-Biała\, Grażyńskiego 38\, Bielsko-Bia
 ła\, 43-382\, Poland
GEO:49.832975;19.049502
X-APPLE-STRUCTURED-LOCATION;VALUE=URI;X-ADDRESS=Grażyńskiego 38\, Bielsko
 -Biała\, 43-382\, Poland;X-APPLE-RADIUS=100;X-TITLE=Klub Pomarańcza Biel
 sko-Biała:geo:49.832975,19.049502
END:VEVENT
BEGIN:VTIMEZONE
TZID:Europe/Warsaw
X-LIC-LOCATION:Europe/Warsaw
BEGIN:STANDARD
DTSTART:20191027T020000
TZOFFSETFROM:+0200
TZOFFSETTO:+0100
TZNAME:CET
END:STANDARD
END:VTIMEZONE
END:VCALENDAR