BEGIN:VCALENDAR
VERSION:2.0
PRODID:-//wp-events-plugin.com//7.2.3.1//EN
TZID:Europe/Warsaw
X-WR-TIMEZONE:Europe/Warsaw
BEGIN:VEVENT
UID:23464@night4u.pl
DTSTART;TZID=Europe/Warsaw:20190810T220000
DTEND;TZID=Europe/Warsaw:20190811T060000
DTSTAMP:20190731T113415Z
URL:https://night4u.pl/wydarzenia/shows-of-the-90s-x-shakers-krakow-5/
SUMMARY:Shows Of The 90s x Shakers Kraków
DESCRIPTION:Shows Of The 90s\, czyli ulepszona wersja naszego cyklu 90s fev
 er! \n\nPodczas tych imprez usłyszysz u nas najlepsze remixy hitów lat 9
 0-tych i oryginalne przebojów\, które błyskawicznie przeniosą Cię pra
 wie 30 lat wstecz! \n\n\nDo zobaczenia! \nNasz wehikuł czasu już czeka! 
 :) \n\n\n\nŚledź nas na instagramie SHAKERSKRAKOW! \n\nSpodobał Ci się
  numer grany podczas imprezy w S\, a nie wiesz jak się nazywa? Napisz na 
 http://web.facebook.com/DJSEBASHAKERS \n\n\nZarezerwuj stolik! \nSzczegó
 łowe informacje pod numerem telefonu 660-114-034 lub pod adresem: shakers
 @shakers.com.pl
ATTACH;FMTTYPE=image/jpeg:https://night4u.pl/wp-content/uploads/2019/07/55
 467_image_67244503_2532406510124968_5610493788532244480_n.jpg
CATEGORIES:małopolskie
LOCATION:Shakers Krakow\, Szewska 5\, Kraków\, 31-009\, Poland
GEO:50.06228;19.93569
X-APPLE-STRUCTURED-LOCATION;VALUE=URI;X-ADDRESS=Szewska 5\, Kraków\, 31-00
 9\, Poland;X-APPLE-RADIUS=100;X-TITLE=Shakers Krakow:geo:50.06228,19.93569
END:VEVENT
BEGIN:VTIMEZONE
TZID:Europe/Warsaw
X-LIC-LOCATION:Europe/Warsaw
BEGIN:DAYLIGHT
DTSTART:20190331T030000
TZOFFSETFROM:+0100
TZOFFSETTO:+0200
TZNAME:CEST
END:DAYLIGHT
END:VTIMEZONE
END:VCALENDAR