BEGIN:VCALENDAR
VERSION:2.0
PRODID:-//wp-events-plugin.com//7.2.3.1//EN
TZID:Europe/Warsaw
X-WR-TIMEZONE:Europe/Warsaw
BEGIN:VEVENT
UID:27449@night4u.pl
DTSTART;TZID=Europe/Warsaw:20190917T200000
DTEND;TZID=Europe/Warsaw:20190917T213000
DTSTAMP:20190914T105417Z
URL:https://night4u.pl/wydarzenia/shut-up-talk-katowice-sezon-2-spotkanie-
 2/
SUMMARY:Shut Up & Talk Katowice - Sezon 2 - Spotkanie #2
DESCRIPTION:Zarejestruj się tutaj: \nhttps://evenea.pl/event/shutupandtalk
 -season2-nr2fb/\n\nMÓWIENIE PO ANGIELSKU TO KOSZMAR?\n\nNie martw się - 
 Shut Up & Talk gości już Katowicach! Nadchodzi nowe spotkanie najbardzie
 j wciągających wieczorków językowych w mieście! Gdzie i kiedy? Już w
 e wtorek w Magazyn - Bar Lounge Mariacka 18\, w Katowicach.\n\nO CO CHODZI
 ?\n\nShut Up & Talk to spotkania przeznaczone specjalnie dla osób począt
 kujących i średnio zaawansowanych\, które uczą się angielskiego\, ale
  brakuje im praktyki i pewności siebie w MÓWIENIU.\n\nNa każdym spotkan
 iu\, moderowanym przez profesjonalnego Trenera Językowego\, znajdziesz be
 z problemu kilka osób\, z którymi porozmawiasz po angielsku na wspólne\
 , różnorodne tematy. W ten sposób podszkolisz swój angielski i nawią
 żesz nowe znajomości :)\n\nKORZYŚCI:\n\nDarmowe spotkanie (uwaga! rejes
 tracja jest obowiązkowa)\nPodszlifujesz praktyczny\, mówiony angielski\,
  doskonale się przy tym bawiąc i poznając nowych ludzi (podczas wydarze
 nia 90% czasu spędzasz na rozmowie z różnymi partnerami!)\nPoznasz skut
 eczne metody nauki i przydatne materiały\nMożliwość zadawania pytań d
 oświadczonym Trenerom Językowym\n\nPLAN SPOTKANIA:\n\n19:45 - Odbierz pl
 akietkę z imieniem i zainwestuj w coś do picia :-)\n\n20:00 - START: Obj
 aśnienie reguł spotkania\n\n20:05 - SPEED-CHATTING: 7 minutowe rundy 1:1
 \, podczas których poznamy partnerów do rozmów i przełamiemy pierwsze 
 lody\n\n21:00 - Podsumowanie i powtórka trudniejszych i przydatnych wyra
 żeń\n\n21:05 - Koniec! Lub kolejny drink/herbata/sok z nowymi znajomymi 
 i dalsze konwersacje\n\n--------------------------------------------------
 -----------------------------------------\nPlease register here: \nhttps:/
 /evenea.pl/event/shutupandtalk-season2-nr2fb/\n\nENGLISH VERSION\n\nBored 
 of standard language exchange meetings? We created the best practical lang
 uage meeting. Come and meet us on Tuesday in Katowice. We are not joking :
 )\n\nIf you:\n\n1) Want to improve your SPOKEN English and get a ton of pr
 actice\n\n2) Want to break the speaking barrier\n\n3) Want to meet new fri
 ends from different countries that also want to speak more\n\n4) Want to a
 ttend a structured\, educational language meeting\n\n5) And have a lot of 
 fun in the process :-)\n\n...then book 105 minutes of your time and come t
 o MAGAZYN - BAR LOUNGE MARIACKA 18 for the first edition of Shut Up & Talk
  in Katowice - the new generation of language meetings!\n\n19:45 - Collect
  your name tag and buy yourself a beer / drink/ coffee / tea\n\n20:00 - Sh
 ort introduction to meeting rules\n\n20:05 - SPEED CHATTING: 7-minute spee
 d chatting rounds 1:1 to meet new people and break the ice\n\n21:00 - Reca
 p of hard vocabulary and useful expressions\n\n21:05 - Go home or stay for
  a second drink with your new friends :)
ATTACH;FMTTYPE=image/jpeg:https://night4u.pl/wp-content/uploads/2019/09/63
 904_image_70793136_700502190355359_5299629205313552384_o.jpg
CATEGORIES:śląskie
LOCATION:Magazyn - Cocktail Bar Mariacka\, Katowice\, Poland
GEO:50.25754;19.02685
X-APPLE-STRUCTURED-LOCATION;VALUE=URI;X-ADDRESS=Katowice\, Poland;X-APPLE-R
 ADIUS=100;X-TITLE=Magazyn - Cocktail Bar Mariacka:geo:50.25754,19.02685
END:VEVENT
BEGIN:VTIMEZONE
TZID:Europe/Warsaw
X-LIC-LOCATION:Europe/Warsaw
BEGIN:DAYLIGHT
DTSTART:20190331T030000
TZOFFSETFROM:+0100
TZOFFSETTO:+0200
TZNAME:CEST
END:DAYLIGHT
END:VTIMEZONE
END:VCALENDAR