BEGIN:VCALENDAR
VERSION:2.0
PRODID:-//wp-events-plugin.com//7.2.3.1//EN
TZID:Europe/Warsaw
X-WR-TIMEZONE:Europe/Warsaw
BEGIN:VEVENT
UID:44541@night4u.pl
DTSTART;TZID=Europe/Warsaw:20200207T210000
DTEND;TZID=Europe/Warsaw:20200208T050000
DTSTAMP:20200331T154429Z
URL:https://night4u.pl/wydarzenia/silent-disco-2/
SUMMARY:Silent Disco! // LOGAN // YOUNG // KREDDY
DESCRIPTION:Silent Disco - powrót legendy!  \nKultowa impreza w słuchawka
 ch powraca! \n🎧 Trzech dji\, trzy kanały\, trzy style muzyczne! \nTego
  wieczoru to TY jesteś 👑 i sam wybierasz\, przy czym się bawisz 🔥\
 nTrzy kanały: ✨Rapsy polskie i zagraniczne &amp\; R'n'B\, ✨ Dance &am
 p\; Top Hits \, ✨ House &amp\; Techno &amp\; EDM\n\nZagrają:\n🎧  
 💚 DJ KREDDY \n🎧  💙 DJ YOUNG \n🎧  ❤️ DJ LOGAN\n\nSprawy org
 anizacyjne:\n👉 wejście free\n👉 nie pobieramy kaucji za słuchawki\n
 👉 wypożyczenie słuchawek 10 zł (weźcie se sobą gotówkę!)\n👉 l
 iczba słuchawek ograniczona!\n👉 weźcie dowody\, impreza tylko dla os
 ób pełnoletnich
ATTACH;FMTTYPE=image/jpeg:https://night4u.pl/wp-content/uploads/2020/02/14
 3758_image_84292307_3743398569018458_9221524028391424000_n.jpg
CATEGORIES:lubelskie
LOCATION:SilenceClub\, Radziszewskiego 8\, Lublin\, 20-031\, Poland
GEO:51.246457;22.543797
X-APPLE-STRUCTURED-LOCATION;VALUE=URI;X-ADDRESS=Radziszewskiego 8\, Lublin\
 , 20-031\, Poland;X-APPLE-RADIUS=100;X-TITLE=SilenceClub:geo:51.246457,22.
 543797
END:VEVENT
BEGIN:VTIMEZONE
TZID:Europe/Warsaw
X-LIC-LOCATION:Europe/Warsaw
BEGIN:STANDARD
DTSTART:20191027T020000
TZOFFSETFROM:+0200
TZOFFSETTO:+0100
TZNAME:CET
END:STANDARD
END:VTIMEZONE
END:VCALENDAR