BEGIN:VCALENDAR
VERSION:2.0
PRODID:-//wp-events-plugin.com//7.2.3.1//EN
TZID:Europe/Warsaw
X-WR-TIMEZONE:Europe/Warsaw
BEGIN:VEVENT
UID:21276@night4u.pl
DTSTART;TZID=Europe/Warsaw:20190720T220000
DTEND;TZID=Europe/Warsaw:20190721T030000
DTSTAMP:20190705T031805Z
URL:https://night4u.pl/wydarzenia/silent-disco-koniec-swiata-torun-2/
SUMMARY:Silent Disco Koniec Świata Toruń
DESCRIPTION:Eng Below\n\nNajgłośniejsza Cisza w mieście powraca do Torun
 ia by w ogrodach Końca Świata zrobić wam prawdziwy muzyczny Armagedon :
 )\n?????❤❤??❤❤?????\n3 kanały 3 rodzaje muzy to Wy wybieracie jak
  skończy się ta noc\n\nKANAŁ 1 -  \n\nKANAŁ 2 - \n\nKANAŁ 3 - Dirty D
 aniels (House Hits\, EDM\, Taneczne hity)  \n\nSłuchawki ?\n Drinki ???\n
  Radość ???\n Tańce??\n\nJak to działa\nSilent Disco to unikalna impre
 za na której każdy uczestnik zostaje wyposażony w wysokiej klasy bezprz
 ewodowe słuchawki. Każda para słuchawek odbiera trzy kanały na ich bok
 u możemy je zmieniać i regulować głośność  Na każdym z kanałów g
 ra inny DJ\, co umożliwia robienie imprezy z trzema różnymi gatunkami m
 uzyki jednocześnie. Dajemy Wam możliwość decydowania przy jakiej muzyc
 e chcecie się bawić! Gdy chcemy odpocząć możemy usiąść przy napoju
  i spokojnie porozmawiać \, a przy okazji popatrzeć na parkiet pełen lu
 dzi tańczących w ciszy. \n\nENG:\n Headphones ?\n Drinks ?? \n Joy ???\n
  Dance ??  \n\n\nSilent Disco is a unique event on which every participant
  is equipped with high-class wireless headphones. Each pair of headphones 
 receives three channels on their side\, we can change them and adjust the 
 volume. Each channel is played by another DJ\, which allows you to party w
 ith three different genres of music simultaneously. We give you the opport
 unity to decide what music you want to play with! When we want to relax\, 
 we can sit down with a drink and calmly talk\, and by the way look at the 
 dance floor full of people dancing in silence.\n\nWAŻNE!!! ŻEBY WYPOŻYC
 ZYĆ SŁUCHAWKI TRZEBA MIEĆ DOKUMENT ZE ZDJĘCIEM (np. legitymacje studen
 cką\, prawo jazdy).\n\nIMPORTANT !!! TO RENT THE HEADPHONES\, YOU MUST HA
 VE A DOCUMENT WITH THE PHOTO (eg student ID\, driving license).\n\nWstęp:
  15 zl sluchawki wliczone\,
ATTACH;FMTTYPE=image/jpeg:https://night4u.pl/wp-content/uploads/2019/07/50
 729_image_65423527_2405473989474334_6789884588173819904_o.jpg
CATEGORIES:kujawsko-pomorskie
LOCATION:Koniec Świata\, Podmurna 4\, Torun\, 87-100\, Poland
GEO:53.009174;18.609694
X-APPLE-STRUCTURED-LOCATION;VALUE=URI;X-ADDRESS=Podmurna 4\, Torun\, 87-100
 \, Poland;X-APPLE-RADIUS=100;X-TITLE=Koniec Świata:geo:53.009174,18.60969
 4
END:VEVENT
BEGIN:VTIMEZONE
TZID:Europe/Warsaw
X-LIC-LOCATION:Europe/Warsaw
BEGIN:DAYLIGHT
DTSTART:20190331T030000
TZOFFSETFROM:+0100
TZOFFSETTO:+0200
TZNAME:CEST
END:DAYLIGHT
END:VTIMEZONE
END:VCALENDAR