BEGIN:VCALENDAR
VERSION:2.0
PRODID:-//wp-events-plugin.com//7.2.3.1//EN
TZID:Europe/Warsaw
X-WR-TIMEZONE:Europe/Warsaw
BEGIN:VEVENT
UID:50689@night4u.pl
DTSTART;TZID=Europe/Warsaw:20200828T210000
DTEND;TZID=Europe/Warsaw:20200829T040000
DTSTAMP:20200816T115549Z
URL:https://night4u.pl/wydarzenia/silent-disco-pod-neonami/
SUMMARY:Silent Disco pod neonami
DESCRIPTION:Surowiec i Klubokawiarnia Recepcja zapraszają na wspólne SILE
 NT DISCO pod ☁️ i neonami  🔵🔻🔹🔶!\n\nWidzimy się w podwór
 ku przy Ruskiej 46\, gdzie zakładając słuchawki przeniesiecie się do j
 ednego z trzech muzycznych światów pod kolorami:\n\n💚 [house\, disco\
 , afro] \nWojtek Furmaniak (African Techno Karate)\n▶ www.mixcloud.com/w
 ojtekfurmaniak\n\n❤️ [uk bass\, breaks\, d&b\, techno]  \n61st Draft P
 ick aka Baby Meelo (regime)\n▶ www.soundcloud.com/61stdraftpick\n\n💙 
 [r&b\, pop\, trap\, deep house]\nDJ BARK  \n▶ www.mixcloud.com/konrad-mo
 ździerz\n\n>> wstęp na wydarzenie jest bezpłatny\n>> wypożyczenie słu
 chawek: 20 PLN\n>> słuchawki będą każdorazowo dezynfekowane\, nie wymi
 eniamy się podczas zabawy!\n>> prosimy o stosowanie się do wytycznych G
 łównego Inspektoratu Sanitarnego \n>> szczegółowe informacje i rozkł
 ad jazdy podamy już wkrótce! \n\nDo zobaczenia!
ATTACH;FMTTYPE=image/jpeg:https://night4u.pl/wp-content/uploads/2020/08/18
 4667_image_117804797_1531921413657184_7904032606130067707_o.jpg
CATEGORIES:dolnośląskie
LOCATION:Ul. Ruska 46 A\, Ruska 46 A\, Wroclaw\, Poland
GEO:51.110023;17.024441
X-APPLE-STRUCTURED-LOCATION;VALUE=URI;X-ADDRESS=Ruska 46 A\, Wroclaw\, Pola
 nd;X-APPLE-RADIUS=100;X-TITLE=Ul. Ruska 46 A:geo:51.110023,17.024441
END:VEVENT
BEGIN:VTIMEZONE
TZID:Europe/Warsaw
X-LIC-LOCATION:Europe/Warsaw
BEGIN:DAYLIGHT
DTSTART:20200329T030000
TZOFFSETFROM:+0100
TZOFFSETTO:+0200
TZNAME:CEST
END:DAYLIGHT
END:VTIMEZONE
END:VCALENDAR